BEGIN:VCALENDAR
VERSION:2.0
PRODID:-//wp-events-plugin.com//7.2.3.1//EN
TZID:Europe/London
X-WR-TIMEZONE:Europe/London
BEGIN:VEVENT
UID:1-14830@westbourneforum.org.uk
DTSTART;TZID=Europe/London:20241214T110000
DTEND;TZID=Europe/London:20241214T115000
DTSTAMP:20241115T031127Z
URL:https://westbourneforum.org.uk/events/snow-play/
SUMMARY:Snow Play
DESCRIPTION:What would you do if Winter decided to stay and moved into your
  house? Well that’s what happens in our snowy spectacular show where you
  are guaranteed a white Christmas\, no matter what the weather or the time
  of year!\n\nSnow Play is a showdown between Winter and Spring over who ge
 ts to stay and who has to go away. Help Mr Green against Mr White in this 
 highly interactive 50-minute smash-hit London production.\n\nYou get to ma
 ke a giant snowman\, cover a whole house in snow and have a super snowball
  fight!\n\nAimed at ages 3 +\n\nApprox 50 minutes (no interval)\n\nTimes: 
 11am and 2pm\n\nBooking and Further Details
ATTACH;FMTTYPE=image/jpeg:https://i0.wp.com/westbourneforum.org.uk/wp-cont
 ent/uploads/2024/11/Snow-Play-banner.webp?fit=800%2C445&ssl=1
LOCATION:Grand Junction\, St Mary Magdalene Church\, Rowington Close\, West
 minster\, London\, W2 5TF\, England\, United Kingdom
GEO:51.5224;-0.188497
X-APPLE-STRUCTURED-LOCATION;VALUE=URI;X-ADDRESS=St Mary Magdalene Church\, 
 Rowington Close\, Westminster\, London\, W2 5TF\, England\, United Kingdom
 ;X-APPLE-RADIUS=100;X-TITLE=Grand Junction:geo:51.5224,-0.188497
ORGANIZER;CN="Westbourne Forum":MAILTO:westbourne-admin@westbourneforum.org.uk
END:VEVENT
BEGIN:VTIMEZONE
TZID:Europe/London
X-LIC-LOCATION:Europe/London
BEGIN:STANDARD
DTSTART:20241027T010000
TZOFFSETFROM:+0100
TZOFFSETTO:+0000
TZNAME:GMT
END:STANDARD
END:VTIMEZONE
END:VCALENDAR