BEGIN:VCALENDAR
VERSION:2.0
PRODID:-//wp-events-plugin.com//7.2.3.1//EN
TZID:Europe/London
X-WR-TIMEZONE:Europe/London
BEGIN:VEVENT
UID:1-8315@westbourneforum.org.uk
DTSTART;TZID=Europe/London:20231109T173000
DTEND;TZID=Europe/London:20231109T193000
DTSTAMP:20231105T203748Z
URL:https://westbourneforum.org.uk/events/skateboarding-for-5-and-9-2023-1
 1-09/
SUMMARY:Skateboarding for 5+ and 9+
DESCRIPTION:SKATEBOARDING AT ACADEMY SPORT CENTRE\n\nFREE!\n\nSkateboarding
  sessions for children and young people living within Westminster.\n\nMyLi
 ttleBoarders provide specialist trained instructors\, all necessary equipm
 ent and safety equipment ( wrist\, elbow\, kneepads and helmets ) for youn
 g people to learn how to skate and gain confidence on the skateboard.\n\nA
 ll abilities are welcome to join in the fun while enhancing their core bal
 ance and fine motor skills.\n\nMY LITTLE BOARDERS\nSpecialist in Children'
 s skateboarding\n\nSkateboarding sessions are FREE!\n\nTAKE PART: Skateboa
 rding sessions take place every Thursday\nAged 5+: From 5.30 - 6.30 pm.\nA
 ged 9+: From 6.30 - 7.30 pm.\n\nBooking required\n\nFor more details pleas
 e visit: mylittleboarders.co.uk/community-classes\nand active.westminster.
 gov.uk/neighbourhood-sports-club-programme
ATTACH;FMTTYPE=image/jpeg:https://i0.wp.com/westbourneforum.org.uk/wp-cont
 ent/uploads/2023/09/Skateboarding-at-Academy-Sport-Centre-free-banner2.web
 p?fit=800%2C445&ssl=1
LOCATION:Westminster Academy\, 255 Harrow Road\, London\, England\, W2 5EZ\
 , Westminster\, United Kingdom
GEO:51.520914;-0.192111
X-APPLE-STRUCTURED-LOCATION;VALUE=URI;X-ADDRESS=255 Harrow Road\, London\, 
 England\, W2 5EZ\, Westminster\, United Kingdom;X-APPLE-RADIUS=100;X-TITLE
 =Westminster Academy:geo:51.520914,-0.192111
ORGANIZER;CN="Westbourne Forum":MAILTO:westbourne-admin@westbourneforum.org.uk
END:VEVENT
BEGIN:VTIMEZONE
TZID:Europe/London
X-LIC-LOCATION:Europe/London
BEGIN:STANDARD
DTSTART:20231029T010000
TZOFFSETFROM:+0100
TZOFFSETTO:+0000
TZNAME:GMT
END:STANDARD
END:VTIMEZONE
END:VCALENDAR