BEGIN:VCALENDAR
VERSION:2.0
PRODID:-//wp-events-plugin.com//7.2.3.1//EN
TZID:Europe/London
X-WR-TIMEZONE:Europe/London
BEGIN:VEVENT
UID:1-11831@westbourneforum.org.uk
DTSTART;TZID=Europe/London:20240525T140000
DTEND;TZID=Europe/London:20240525T170000
DTSTAMP:20240516T190058Z
URL:https://westbourneforum.org.uk/events/share-repair-reuse/
SUMMARY:Share • Repair • Reuse
DESCRIPTION:\n\nWebsite | Email\n\n&nbsp\;\n\n
ATTACH;FMTTYPE=image/jpeg:https://i0.wp.com/westbourneforum.org.uk/wp-cont
 ent/uploads/2024/05/SHARE-%E2%80%A2-REPAIR-%E2%80%A2-REUSE.webp?fit=800%2C
 445&ssl=1
LOCATION:Fisherton Street Community Hall\, Luton Street\, London\, England\
 , NW8 8LS\, Westminster\, United Kingdom
GEO:51.524755;-0.171744
X-APPLE-STRUCTURED-LOCATION;VALUE=URI;X-ADDRESS=Luton Street\, London\, Eng
 land\, NW8 8LS\, Westminster\, United Kingdom;X-APPLE-RADIUS=100;X-TITLE=F
 isherton Street Community Hall:geo:51.524755,-0.171744
ORGANIZER;CN="Westbourne Forum":MAILTO:westbourne-admin@westbourneforum.org.uk
END:VEVENT
BEGIN:VTIMEZONE
TZID:Europe/London
X-LIC-LOCATION:Europe/London
BEGIN:DAYLIGHT
DTSTART:20240331T020000
TZOFFSETFROM:+0000
TZOFFSETTO:+0100
TZNAME:BST
END:DAYLIGHT
END:VTIMEZONE
END:VCALENDAR