BEGIN:VCALENDAR
VERSION:2.0
PRODID:-//wp-events-plugin.com//7.2.3.1//EN
TZID:Europe/London
X-WR-TIMEZONE:Europe/London
BEGIN:VEVENT
UID:1-8379@westbourneforum.org.uk
DTSTART;TZID=Europe/London:20230930T110000
DTEND;TZID=Europe/London:20230930T110000
DTSTAMP:20230921T194557Z
URL:https://westbourneforum.org.uk/events/safe-streets-now/
SUMMARY:Safe Streets Now
DESCRIPTION:\n\nhello@safestreetsnow.co.uk\n\nsafestreetsnow.co.uk\n\n\n
ATTACH;FMTTYPE=image/jpeg:https://i0.wp.com/westbourneforum.org.uk/wp-cont
 ent/uploads/2023/09/Safe-Streets-Now-campaign-banner.webp?fit=770%2C413&ss
 l=1
LOCATION:Open Space - Royal Oak Entrance\, Westbourne Green\, London\, Engl
 and\, W2 5TQ\, Westminster\, United Kingdom
GEO:51.519896;-0.189198
X-APPLE-STRUCTURED-LOCATION;VALUE=URI;X-ADDRESS=Westbourne Green\, London\,
  England\, W2 5TQ\, Westminster\, United Kingdom;X-APPLE-RADIUS=100;X-TITL
 E=Open Space - Royal Oak Entrance:geo:51.519896,-0.189198
ORGANIZER;CN="Westbourne Forum":MAILTO:westbourne-admin@westbourneforum.org.uk
END:VEVENT
BEGIN:VTIMEZONE
TZID:Europe/London
X-LIC-LOCATION:Europe/London
BEGIN:DAYLIGHT
DTSTART:20230326T020000
TZOFFSETFROM:+0000
TZOFFSETTO:+0100
TZNAME:BST
END:DAYLIGHT
END:VTIMEZONE
END:VCALENDAR