BEGIN:VCALENDAR
VERSION:2.0
PRODID:-//wp-events-plugin.com//7.2.3.1//EN
TZID:Europe/London
X-WR-TIMEZONE:Europe/London
BEGIN:VEVENT
UID:1-8499@westbourneforum.org.uk
DTSTART;TZID=Europe/London:20231014T100000
DTEND;TZID=Europe/London:20231014T130000
DTSTAMP:20231009T012304Z
URL:https://westbourneforum.org.uk/events/repair-reuse-recycle-2/
SUMMARY:Repair • Reuse • Recycle
DESCRIPTION:\n\nContact: 07709 767 727\n\n
ATTACH;FMTTYPE=image/jpeg:https://i0.wp.com/westbourneforum.org.uk/wp-cont
 ent/uploads/2023/10/Repair-%E2%80%A2-Reuse-%E2%80%A2-Recycle-banner.webp?f
 it=800%2C445&ssl=1
LOCATION:Fisherton Street Community Hall\, Luton Street\, London\, England\
 , NW8 8LS\, Westminster\, United Kingdom
GEO:51.524755;-0.171744
X-APPLE-STRUCTURED-LOCATION;VALUE=URI;X-ADDRESS=Luton Street\, London\, Eng
 land\, NW8 8LS\, Westminster\, United Kingdom;X-APPLE-RADIUS=100;X-TITLE=F
 isherton Street Community Hall:geo:51.524755,-0.171744
ORGANIZER;CN="Westbourne Forum":MAILTO:westbourne-admin@westbourneforum.org.uk
END:VEVENT
BEGIN:VTIMEZONE
TZID:Europe/London
X-LIC-LOCATION:Europe/London
BEGIN:DAYLIGHT
DTSTART:20230326T020000
TZOFFSETFROM:+0000
TZOFFSETTO:+0100
TZNAME:BST
END:DAYLIGHT
END:VTIMEZONE
END:VCALENDAR