BEGIN:VCALENDAR
VERSION:2.0
PRODID:-//wp-events-plugin.com//7.2.3.1//EN
TZID:Europe/London
X-WR-TIMEZONE:Europe/London
BEGIN:VEVENT
UID:1-15194@westbourneforum.org.uk
DTSTART;TZID=Europe/London:20241230T100000
DTEND;TZID=Europe/London:20241230T140000
DTSTAMP:20241218T054309Z
URL:https://westbourneforum.org.uk/events/pro-touch-winter-haf-camp-2024-1
 2-30/
SUMMARY:Pro Touch Winter HAF Camp
DESCRIPTION:PLEASE NOTE: This project is part of the Holiday Activities &a
 mp\; Food (HAF) Programme\, for young people in Westminster and Kensington
  &amp\; Chelsea who are eligible for benefits-related Free School Meals*\
 n\nOur programme in Westminster will be held in Gateway Academy\, Capland 
 Street London NW8 8LN\, running for 4 days\, consisting of a fun-filled\, 
 action-packed programme with an exciting opportunity for a fun day out!\n\
 nFor ages 7 - 13.\n\nThe programme will consist of:\n★ Sports\n★ Foot
 ball\, Tennis\, Basketball\, Fencing\, Table Tennis\, Dodgeball\, etc...\n
 ★ Arts and crafts\n★ Painting\, Drawing\, Origami\n★ Board Games\n
 ★ Guess Who\, Twister\, Monopoly\, Chess\n★ Healthy Eating\n★ Hot
  meals are provided with workshops to increase nutritional education\n★
  Quizzes\n★ Fun Quizzes testing knowledge about sports and culture\n\n
 These times and activities are subject to change*\n\nAll places will need 
 to be booked in advance\, if you turn up without booking\, you may be turn
 ed away. If you book and you are unable to attend\, please get in touch wi
 th us before the session.\n\nThis programme is FREE to those eligible and 
 in receipt of benefit-related Free School Meals. (Aged 7 - 13)\n\nContact:
  Project Manager: Essa Rashan\n\nMobile: 07756 833 518\n\nEmail: holidays@
 protouchsa.co.uk\n\nBooking and further details\n\nwww.protouchsa.co.uk\n0
 7500 421 944 | 07706 357 865 | 07874 872 046\ninfo@protouchsa.co.uk
ATTACH;FMTTYPE=image/jpeg:https://i0.wp.com/westbourneforum.org.uk/wp-cont
 ent/uploads/2024/12/Pro-Touch-SA-CIC-Winter-HAF-Camp-at-King-Solomon-Acade
 my.webp?fit=800%2C445&ssl=1
LOCATION:King Solomon Academy\, 57C Penfold Street\, London\, England\, NW1
  6RX\, Westminster\, United Kingdom
GEO:51.521282;-0.169274
X-APPLE-STRUCTURED-LOCATION;VALUE=URI;X-ADDRESS=57C Penfold Street\, London
 \, England\, NW1 6RX\, Westminster\, United Kingdom;X-APPLE-RADIUS=100;X-T
 ITLE=King Solomon Academy:geo:51.521282,-0.169274
ORGANIZER;CN="Westbourne Forum":MAILTO:westbourne-admin@westbourneforum.org.uk
END:VEVENT
BEGIN:VTIMEZONE
TZID:Europe/London
X-LIC-LOCATION:Europe/London
BEGIN:STANDARD
DTSTART:20241027T010000
TZOFFSETFROM:+0100
TZOFFSETTO:+0000
TZNAME:GMT
END:STANDARD
END:VTIMEZONE
END:VCALENDAR