BEGIN:VCALENDAR
VERSION:2.0
PRODID:-//wp-events-plugin.com//7.2.3.1//EN
TZID:Europe/London
X-WR-TIMEZONE:Europe/London
BEGIN:VEVENT
UID:1-5464@westbourneforum.org.uk
DTSTART;TZID=Europe/London:20230215T100000
DTEND;TZID=Europe/London:20230215T140000
DTSTAMP:20230201T234817Z
URL:https://westbourneforum.org.uk/events/pro-touch-sa-westminster-februar
 y-half-term-2023-02-15/
SUMMARY:Pro Touch SA Westminster February half term
DESCRIPTION:*PLEASE NOTE: This project is part of the February Half Term ac
 tivities\, funded by Westminster City Council\n\nOur programme at Westmins
 ter will run from North Paddington Youth Club\, in Maida Vale\, for 4 days
 \, consisting of a fun filled\, action packed programme with a exciting op
 portunity for a fun\, day out/trip.\n\nThe programme will consist of:\n\n 
 	Sports: Football\, Tennis\, Basketball\, Fencing\, Table Tennis\, Dodgeba
 ll etc.\n 	Arts and crafts: Painting\, Drawing\, Origami\n 	Board Games:Gu
 ess Who\, Twister\, Monopoly\, Chess\n 	QuizzesFun Quizzes testing knowled
 ge about sports and culture\n\nDetails of free meal provided: Hot meals p
 rovided with workshops to increase nutritional education\n\nNearest bus st
 op: Carlton Vale 16\, 98\, 332\nNearest tube stop: Paddington\, Maida Va
 le\, Kilburn Park\n\nContact email: holidays@protouchsa.co.uk\nContact ph
 one number: Essa Rashan on 07756833518\n\nBooking required\n\nThese times
  are subject to change* All places will need to be booked in advance\, if 
 you turn up without booking\, you may be turned away. If you book and you 
 are unable to attend\, please contact us before the session.
ATTACH;FMTTYPE=image/jpeg:https://i0.wp.com/westbourneforum.org.uk/wp-cont
 ent/uploads/2023/02/Pro-touch-sa-westminster-february-half-term-header.web
 p?fit=800%2C445&ssl=1
LOCATION:North Paddington Youth Club\, 229 Lanark Road\, London\, England\,
  W9 1EA\, Westminster\, United Kingdom
GEO:51.53207;-0.187474
X-APPLE-STRUCTURED-LOCATION;VALUE=URI;X-ADDRESS=229 Lanark Road\, London\, 
 England\, W9 1EA\, Westminster\, United Kingdom;X-APPLE-RADIUS=100;X-TITLE
 =North Paddington Youth Club:geo:51.53207,-0.187474
ORGANIZER;CN="Westbourne Forum":MAILTO:westbourne-admin@westbourneforum.org.uk
END:VEVENT
BEGIN:VTIMEZONE
TZID:Europe/London
X-LIC-LOCATION:Europe/London
BEGIN:STANDARD
DTSTART:20221030T010000
TZOFFSETFROM:+0100
TZOFFSETTO:+0000
TZNAME:GMT
END:STANDARD
END:VTIMEZONE
END:VCALENDAR