BEGIN:VCALENDAR
VERSION:2.0
PRODID:-//wp-events-plugin.com//7.2.3.1//EN
TZID:Europe/London
X-WR-TIMEZONE:Europe/London
BEGIN:VEVENT
UID:1-21054@westbourneforum.org.uk
DTSTART;TZID=Europe/London:20260331T100000
DTEND;TZID=Europe/London:20260331T140000
DTSTAMP:20260320T042842Z
URL:https://westbourneforum.org.uk/events/pro-touch-easter-haf-2026-03-31/
SUMMARY:Pro Touch Easter HAF
DESCRIPTION:\n\nJoin us for an action-packed programme at St Peters! This p
 rogramme is completely free to all\, however only whilst places last.\n\nW
 hat to expect?\nWe're offering a variety of multi-sports activities includ
 ing football\, dodgeball\, mini-tennis\, fitness\, speed and agility exerc
 ises\, football-tennis\, skipping\, and more!\n\nPlus\, there will be fun 
 sports challenges with prizes for all participants!*\n\nWe welcome all chi
 ldren and young people\, including those with educational or physical need
 s. If your child requires special assistance or 1:1 support\, please get i
 n touch - we're here to help.\n\nWho are we?\nPro Touch SA is a charitable
 \, not-for-profit organisation dedicated to creating opportunities for you
 ng people. Whether through our football academy or community engagement ev
 ents\, we aim to make a positive impact. Our experienced coaches and staff
  are committed to engaging children with structured and fulfilling session
 s\, promoting fitness\, health\, and activity.\n\nWraparound care options 
 running from 9 am - 10 am and 2 pm - 4 pm.\n( To book wraparound care: Cli
 ck here )\n\nFor any questions\, feel free to reach out and contact our Ho
 liday Programme Team:\nEmail: holidays@protouchsa.co.uk\n\n*Please note th
 at all activities and programmes are subject to the availability/accessibi
 lity of equipment and facilities.\n\n&nbsp\;
ATTACH;FMTTYPE=image/jpeg:https://i0.wp.com/westbourneforum.org.uk/wp-cont
 ent/uploads/2025/10/St-Peters-CE-Primary-HT-Oct-2025-banner.webp?fit=800%2
 C445&ssl=1
LOCATION:St Peter's CE Primary School\, Chippenham Mews\, London\, England\
 , W9 2AN\, Westminster\, United Kingdom
GEO:51.52394;-0.196671
X-APPLE-STRUCTURED-LOCATION;VALUE=URI;X-ADDRESS=Chippenham Mews\, London\, 
 England\, W9 2AN\, Westminster\, United Kingdom;X-APPLE-RADIUS=100;X-TITLE
 =St Peter's CE Primary School:geo:51.52394,-0.196671
ORGANIZER;CN="Jason":MAILTO:west@fanatix.org.uk
END:VEVENT
BEGIN:VTIMEZONE
TZID:Europe/London
X-LIC-LOCATION:Europe/London
BEGIN:DAYLIGHT
DTSTART:20260329T020000
TZOFFSETFROM:+0000
TZOFFSETTO:+0100
TZNAME:BST
END:DAYLIGHT
END:VTIMEZONE
END:VCALENDAR