BEGIN:VCALENDAR
VERSION:2.0
PRODID:-//wp-events-plugin.com//7.2.3.1//EN
TZID:Europe/London
X-WR-TIMEZONE:Europe/London
BEGIN:VEVENT
UID:1-7069@westbourneforum.org.uk
DTSTART;TZID=Europe/London:20230810T100000
DTEND;TZID=Europe/London:20230810T100000
DTSTAMP:20230730T025303Z
URL:https://westbourneforum.org.uk/events/play-reading-for-parents-and-bab
 ies-2023-08-10/
SUMMARY:Play Reading For Parents And Babies
DESCRIPTION:
ATTACH;FMTTYPE=image/jpeg:https://i0.wp.com/westbourneforum.org.uk/wp-cont
 ent/uploads/2023/07/Play-reading-for-parents-and-babies-header.webp?fit=80
 0%2C445&ssl=1
LOCATION:Lancaster West Estate\, Testerton Walk\, London\, England\, W11 4A
 S\, United Kingdom
GEO:51.513278;-0.216288
X-APPLE-STRUCTURED-LOCATION;VALUE=URI;X-ADDRESS=Testerton Walk\, London\, E
 ngland\, W11 4AS\, United Kingdom;X-APPLE-RADIUS=100;X-TITLE=Lancaster Wes
 t Estate:geo:51.513278,-0.216288
ORGANIZER;CN="Westbourne Forum":MAILTO:westbourne-admin@westbourneforum.org.uk
END:VEVENT
BEGIN:VTIMEZONE
TZID:Europe/London
X-LIC-LOCATION:Europe/London
BEGIN:DAYLIGHT
DTSTART:20230326T020000
TZOFFSETFROM:+0000
TZOFFSETTO:+0100
TZNAME:BST
END:DAYLIGHT
END:VTIMEZONE
END:VCALENDAR