BEGIN:VCALENDAR
VERSION:2.0
PRODID:-//wp-events-plugin.com//7.2.3.1//EN
TZID:Europe/London
X-WR-TIMEZONE:Europe/London
BEGIN:VEVENT
UID:1-3838@westbourneforum.org.uk
DTSTART;TZID=Europe/London:20220823T100000
DTEND;TZID=Europe/London:20220823T160000
DTSTAMP:20220629T185645Z
URL:https://westbourneforum.org.uk/events/play-in-a-week-2022-08-23/
SUMMARY:Play in a week
DESCRIPTION:Delivered by the brilliant Drama Geezers\, you will learn how t
 o put on a show in just one week!\n\nWhat to expect: Acting\, Movement\, C
 haracters\, Voice work\, Games\, Learning lines\, Making props and set and
  much more! 
ATTACH;FMTTYPE=image/jpeg:https://i0.wp.com/westbourneforum.org.uk/wp-cont
 ent/uploads/2022/06/Play-in-a-week-poster-header.webp?fit=1414%2C787&ssl=1
LOCATION:Grand Junction\, St Mary Magdalene Church\, Rowington Close\, West
 minster\, London\, W2 5TF\, England\, United Kingdom
GEO:51.5224;-0.188497
X-APPLE-STRUCTURED-LOCATION;VALUE=URI;X-ADDRESS=St Mary Magdalene Church\, 
 Rowington Close\, Westminster\, London\, W2 5TF\, England\, United Kingdom
 ;X-APPLE-RADIUS=100;X-TITLE=Grand Junction:geo:51.5224,-0.188497
ORGANIZER;CN="Westbourne Forum":MAILTO:westbourne-admin@westbourneforum.org.uk
END:VEVENT
BEGIN:VTIMEZONE
TZID:Europe/London
X-LIC-LOCATION:Europe/London
BEGIN:DAYLIGHT
DTSTART:20220327T020000
TZOFFSETFROM:+0000
TZOFFSETTO:+0100
TZNAME:BST
END:DAYLIGHT
END:VTIMEZONE
END:VCALENDAR