BEGIN:VCALENDAR
VERSION:2.0
PRODID:-//wp-events-plugin.com//7.2.3.1//EN
TZID:Europe/London
X-WR-TIMEZONE:Europe/London
BEGIN:VEVENT
UID:1-8639@westbourneforum.org.uk
DTSTART;TZID=Europe/London:20231024T100000
DTEND;TZID=Europe/London:20231024T150000
DTSTAMP:20231018T024058Z
URL:https://westbourneforum.org.uk/events/platform-cricket-half-term-progr
 amme-2023-10-24/
SUMMARY:Platform Cricket Half Term Programme
DESCRIPTION:Our half term programme gives children and young people of all 
 abilities the chance to come and engage in cricketing activities. This wil
 l include cricket training\, team building exercises and lots of fun match
 es and games.\n\nOur experienced coaches will be on hand to offer nutritio
 nal and health &amp\; fitness information and support. We really look forw
 ard to seeing you.\n\nDetails of free meal provided: Lunch will be provide
 d around noon.\n\nBooking\n\nContact email: platformcricket@gmail.com\n\nA
 GE RANGE: 7 - 11 | PRICE: FREE | ACTIVITY BY: PLATFORM CRICKET
ATTACH;FMTTYPE=image/jpeg:https://i0.wp.com/westbourneforum.org.uk/wp-cont
 ent/uploads/2023/10/Platform-Cricket-banner.webp?fit=800%2C445&ssl=1
LOCATION:Grey Coat Hospital School - St Michael's Site\, 98 Regency Street\
 , London\, England\, SW1P 4GH\, Westminster\, United Kingdom
GEO:51.491187;-0.132408
X-APPLE-STRUCTURED-LOCATION;VALUE=URI;X-ADDRESS=98 Regency Street\, London\
 , England\, SW1P 4GH\, Westminster\, United Kingdom;X-APPLE-RADIUS=100;X-T
 ITLE=Grey Coat Hospital School - St Michael's Site:geo:51.491187,-0.132408
ORGANIZER;CN="Westbourne Forum":MAILTO:westbourne-admin@westbourneforum.org.uk
END:VEVENT
BEGIN:VTIMEZONE
TZID:Europe/London
X-LIC-LOCATION:Europe/London
BEGIN:DAYLIGHT
DTSTART:20230326T020000
TZOFFSETFROM:+0000
TZOFFSETTO:+0100
TZNAME:BST
END:DAYLIGHT
END:VTIMEZONE
END:VCALENDAR