BEGIN:VCALENDAR
VERSION:2.0
PRODID:-//wp-events-plugin.com//7.2.3.1//EN
TZID:Europe/London
X-WR-TIMEZONE:Europe/London
BEGIN:VEVENT
UID:1-10533@westbourneforum.org.uk
DTSTART;TZID=Europe/London:20240229T123000
DTEND;TZID=Europe/London:20240229T133000
DTSTAMP:20240221T211920Z
URL:https://westbourneforum.org.uk/events/parent-meet-up/
SUMMARY:Parent Meet Up
DESCRIPTION:\n\nThe New Parent Company\n\nWe will be hosting a free meet up
  next week @themaqamcentre for expectant and new parents\n\nCome along to 
 connect with other parents and learn about what is happening at The Maqam 
 Centre.\n\nBabies\, children and bumps welcome!\n\nWebsite | Instagram\n\n
ATTACH;FMTTYPE=image/jpeg:https://i0.wp.com/westbourneforum.org.uk/wp-cont
 ent/uploads/2024/02/Parent-Meet-Up-at-The-Maqam-Centre-banner.webp?fit=973
 %2C541&ssl=1
LOCATION:The Maqam Centre\, Wrentham Avenue \, London\, England\, NW10 3HJ\
 , Brent\, United Kingdom
GEO:51.537737;-0.216516
X-APPLE-STRUCTURED-LOCATION;VALUE=URI;X-ADDRESS=Wrentham Avenue \, London\,
  England\, NW10 3HJ\, Brent\, United Kingdom;X-APPLE-RADIUS=100;X-TITLE=Th
 e Maqam Centre:geo:51.537737,-0.216516
ORGANIZER;CN="Westbourne Forum":MAILTO:westbourne-admin@westbourneforum.org.uk
END:VEVENT
BEGIN:VTIMEZONE
TZID:Europe/London
X-LIC-LOCATION:Europe/London
BEGIN:STANDARD
DTSTART:20231029T010000
TZOFFSETFROM:+0100
TZOFFSETTO:+0000
TZNAME:GMT
END:STANDARD
END:VTIMEZONE
END:VCALENDAR