BEGIN:VCALENDAR
VERSION:2.0
PRODID:-//wp-events-plugin.com//7.2.3.1//EN
TZID:Europe/London
X-WR-TIMEZONE:Europe/London
BEGIN:VEVENT
UID:1-17023@westbourneforum.org.uk
DTSTART;TZID=Europe/London:20250524T100000
DTEND;TZID=Europe/London:20250524T110000
DTSTAMP:20250410T211558Z
URL:https://westbourneforum.org.uk/events/paddington-cubs-football-school-
 2025-05-24/
SUMMARY:Paddington Cubs Football School
DESCRIPTION:\n\nRegistration
ATTACH;FMTTYPE=image/jpeg:https://i0.wp.com/westbourneforum.org.uk/wp-cont
 ent/uploads/2025/04/Paddington-Cubs-Football-School-banner.webp?fit=1409%2
 C784&ssl=1
LOCATION:Queen's Park\, Harvist Road\, London\, England\, NW6 6SP\, Brent\,
  United Kingdom
GEO:51.535685;-0.210886
X-APPLE-STRUCTURED-LOCATION;VALUE=URI;X-ADDRESS=Harvist Road\, London\, Eng
 land\, NW6 6SP\, Brent\, United Kingdom;X-APPLE-RADIUS=100;X-TITLE=Queen's
  Park:geo:51.535685,-0.210886
ORGANIZER;CN="Westbourne Forum":MAILTO:westbourne-admin@westbourneforum.org.uk
END:VEVENT
BEGIN:VTIMEZONE
TZID:Europe/London
X-LIC-LOCATION:Europe/London
BEGIN:DAYLIGHT
DTSTART:20250330T020000
TZOFFSETFROM:+0000
TZOFFSETTO:+0100
TZNAME:BST
END:DAYLIGHT
END:VTIMEZONE
END:VCALENDAR