BEGIN:VCALENDAR
VERSION:2.0
PRODID:-//wp-events-plugin.com//7.2.3.1//EN
TZID:Europe/London
X-WR-TIMEZONE:Europe/London
BEGIN:VEVENT
UID:1-13268@westbourneforum.org.uk
DTSTART;TZID=Europe/London:20240730T110000
DTEND;TZID=Europe/London:20240730T160000
DTSTAMP:20240728T180843Z
URL:https://westbourneforum.org.uk/events/paddington-arts-summer-school-pr
 oject-2-2024-07-30/
SUMMARY:Paddington Arts (Summer School) Project
DESCRIPTION:PLEASE NOTE: This project is part of the Holiday Activities &am
 p\; Food (HAF) Programme\, for young people in need*\n\nJoin us for a prog
 ramme of creative arts workshops\, fun and games\, sports and trips! Plus 
 the chance to take part in Notting Hill Carnival\n\nDetails of free meal p
 rovided: Hot meal/tray bake\n\nNearest bus stop: Harrow Road/Elgin Avenue\
 nNearest tube stop: Westbourne Park\n\nContact email: info@paddingtonarts.
 org.uk\n\nContact phone number: 020 7286 2722\n\n*Hot meals are free!!! Tr
 ips are £15 per child per trip\n\nBooking required.\n\nSEND friendly\nWe 
 have some training or experience of Special Educational Needs &amp\; Disab
 ilities and are able to accommodate children with low-level needs\, we do 
 not offer 1:1. Contact us to discuss how we can support your child.\n\nFur
 ther details\n\nwww.paddingtonarts.org.uk
ATTACH;FMTTYPE=image/jpeg:https://i0.wp.com/westbourneforum.org.uk/wp-cont
 ent/uploads/2024/07/Paddington-Arts-Summer-School-Project.webp?fit=800%2C4
 45&ssl=1
LOCATION:Paddington Arts\, 32 Woodfield Road\, London\, England\, W9 2BE\, 
 Westminster\, United Kingdom
GEO:51.523064;-0.200195
X-APPLE-STRUCTURED-LOCATION;VALUE=URI;X-ADDRESS=32 Woodfield Road\, London\
 , England\, W9 2BE\, Westminster\, United Kingdom;X-APPLE-RADIUS=100;X-TIT
 LE=Paddington Arts:geo:51.523064,-0.200195
ORGANIZER;CN="Westbourne Forum":MAILTO:westbourne-admin@westbourneforum.org.uk
END:VEVENT
BEGIN:VTIMEZONE
TZID:Europe/London
X-LIC-LOCATION:Europe/London
BEGIN:DAYLIGHT
DTSTART:20240331T020000
TZOFFSETFROM:+0000
TZOFFSETTO:+0100
TZNAME:BST
END:DAYLIGHT
END:VTIMEZONE
END:VCALENDAR