BEGIN:VCALENDAR
VERSION:2.0
PRODID:-//wp-events-plugin.com//7.2.3.1//EN
TZID:Europe/London
X-WR-TIMEZONE:Europe/London
BEGIN:VEVENT
UID:1-21291@westbourneforum.org.uk
DTSTART;TZID=Europe/London:20260422T093000
DTEND;TZID=Europe/London:20260422T113000
DTSTAMP:20260418T003034Z
URL:https://westbourneforum.org.uk/events/over-60s-walking-cricket-2026-04
 -22/
SUMMARY:Over 60's Walking Cricket
DESCRIPTION:\n\nBooking form\n\ninfo@oneldn.org.uk\n\n07852 176 005\n\n
ATTACH;FMTTYPE=image/jpeg:https://i0.wp.com/westbourneforum.org.uk/wp-cont
 ent/uploads/2024/05/Over-60s-Walking-Cricket-bannr.webp?fit=1170%2C651&ssl
 =1
LOCATION:North Paddington Youth Club\, 229 Lanark Road\, London\, England\,
  W9 1EA\, Westminster\, United Kingdom
GEO:51.53207;-0.187474
X-APPLE-STRUCTURED-LOCATION;VALUE=URI;X-ADDRESS=229 Lanark Road\, London\, 
 England\, W9 1EA\, Westminster\, United Kingdom;X-APPLE-RADIUS=100;X-TITLE
 =North Paddington Youth Club:geo:51.53207,-0.187474
ORGANIZER;CN="Westbourne Forum":MAILTO:westbourne-admin@westbourneforum.org.uk
END:VEVENT
BEGIN:VTIMEZONE
TZID:Europe/London
X-LIC-LOCATION:Europe/London
BEGIN:DAYLIGHT
DTSTART:20260329T020000
TZOFFSETFROM:+0000
TZOFFSETTO:+0100
TZNAME:BST
END:DAYLIGHT
END:VTIMEZONE
END:VCALENDAR