BEGIN:VCALENDAR
VERSION:2.0
PRODID:-//wp-events-plugin.com//7.2.3.1//EN
TZID:Europe/London
X-WR-TIMEZONE:Europe/London
BEGIN:VEVENT
UID:1-11236@westbourneforum.org.uk
DTSTART;TZID=Europe/London:20240427T200000
DTEND;TZID=Europe/London:20240427T212000
DTSTAMP:20240416T203658Z
URL:https://westbourneforum.org.uk/events/olive-jar-2-2024-04-27/
SUMMARY:Olive Jar
DESCRIPTION:OLIVE JAR RETURNS! A UNIQUE PERFORMANCE CELEBRATING LONDON’S 
 ARAB COMMUNITIES AND THE EXTRAORDINARY STORIES THAT ORDINARY PEOPLE CAN TE
 LL\n\nThe olive tree roots us to our land\, on our tables they offer hope 
 as well as food. Like olives\, our stories wait\, hidden and preserved in 
 their jars\, to be shared. Some will be bitter\, and others sweet.\n\nOliv
 e Jar holds stories of winding journeys to a new place\, of half-remembere
 d memories passed down through the generations\, of finding a little bit o
 f home in a big city\, and marks what changes and what stays the same. The
  performance leads the audience into an atmospheric world of empowerment a
 nd resistance\, where tea\, dolma and olives can be shared with new friend
 s.\n\nFeaturing live music from Palestinian singer Ruba Shamshoum\, Georgi
 e Pope ( harp ) and Nuno Brito ( percussion )\n\nPerformed in English with
  some parts in Arabic\n\nDirected by Elias Matar\n\n20% discount available
  for groups of five or more\, enter the code OLIVEJAR20 at checkout\n\nBoo
 king and further details
ATTACH;FMTTYPE=image/jpeg:https://i0.wp.com/westbourneforum.org.uk/wp-cont
 ent/uploads/2024/04/olive-jar.webp?fit=800%2C445&ssl=1
LOCATION:Grand Junction\, St Mary Magdalene Church\, Rowington Close\, West
 minster\, London\, W2 5TF\, England\, United Kingdom
GEO:51.5224;-0.188497
X-APPLE-STRUCTURED-LOCATION;VALUE=URI;X-ADDRESS=St Mary Magdalene Church\, 
 Rowington Close\, Westminster\, London\, W2 5TF\, England\, United Kingdom
 ;X-APPLE-RADIUS=100;X-TITLE=Grand Junction:geo:51.5224,-0.188497
ORGANIZER;CN="Westbourne Forum":MAILTO:westbourne-admin@westbourneforum.org.uk
END:VEVENT
BEGIN:VTIMEZONE
TZID:Europe/London
X-LIC-LOCATION:Europe/London
BEGIN:DAYLIGHT
DTSTART:20240331T020000
TZOFFSETFROM:+0000
TZOFFSETTO:+0100
TZNAME:BST
END:DAYLIGHT
END:VTIMEZONE
END:VCALENDAR