BEGIN:VCALENDAR
VERSION:2.0
PRODID:-//wp-events-plugin.com//7.2.3.1//EN
TZID:Europe/London
X-WR-TIMEZONE:Europe/London
BEGIN:VEVENT
UID:1-8655@westbourneforum.org.uk
DTSTART;TZID=Europe/London:20231027T100000
DTEND;TZID=Europe/London:20231027T160000
DTSTAMP:20231018T034557Z
URL:https://westbourneforum.org.uk/events/october-half-term-holiday-progra
 mme-2023-10-27/
SUMMARY:October Half Term Holiday Programme
DESCRIPTION:City Lions are hosting an October Holiday programme\, filled wi
 th 3-days of creativity\, friendships and fun activities to keep you busy 
 this break.\n\nEach day\, we will meet at a new location\, to experience v
 arious activities and visit spaces that will bring your imagination to lif
 e!\n\nWe have organised an exciting art workshop with The CoLab\, exciting
  physical activities with Boxthenix and more!\n\nTeam member Kiz &amp\; he
 r team will be there each day to support you\, but you will also get the c
 hance to meet and build friendships with others in the group. We hope to s
 ee you there!\n\nThroughout the programme\, we will be providing each youn
 g person lunch per day\n\nNearest bus stop: Eccleston Bridge (Stop T)\n\n
 Nearest tube stop: Victoria Station\n\nContact email: kayton-green@westm
 inster.gov.uk / citylions@westminster.gov.uk\n\nContact phone number: 07
 790 979 400\n\n*Cost for non-Free School Meals Children and Young People:\
 n\nBooking required\n\nAGE RANGE: 13 - 16 | PRICE: FREE | ACTIVITY BY
 : CITY LIONS\n\nourcity.org.uk/westminster-half-term
ATTACH;FMTTYPE=image/jpeg:https://i0.wp.com/westbourneforum.org.uk/wp-cont
 ent/uploads/2023/10/City-Lions-Holiday-Programme-banner.webp?fit=800%2C445
 &ssl=1
LOCATION:Victoria Library\,  160 Buckingham Palace Road\, London\, England\
 , SW1W 9UD\, Westminster\, United Kingdom
GEO:51.492908;-0.147842
X-APPLE-STRUCTURED-LOCATION;VALUE=URI;X-ADDRESS= 160 Buckingham Palace Road
 \, London\, England\, SW1W 9UD\, Westminster\, United Kingdom;X-APPLE-RADI
 US=100;X-TITLE=Victoria Library:geo:51.492908,-0.147842
ORGANIZER;CN="Westbourne Forum":MAILTO:westbourne-admin@westbourneforum.org.uk
END:VEVENT
BEGIN:VTIMEZONE
TZID:Europe/London
X-LIC-LOCATION:Europe/London
BEGIN:DAYLIGHT
DTSTART:20230326T020000
TZOFFSETFROM:+0000
TZOFFSETTO:+0100
TZNAME:BST
END:DAYLIGHT
END:VTIMEZONE
END:VCALENDAR