BEGIN:VCALENDAR
VERSION:2.0
PRODID:-//wp-events-plugin.com//7.2.3.1//EN
TZID:Europe/London
X-WR-TIMEZONE:Europe/London
BEGIN:VEVENT
UID:1-19658@westbourneforum.org.uk
DTSTART;TZID=Europe/London:20251030T093000
DTEND;TZID=Europe/London:20251030T173000
DTSTAMP:20251009T012800Z
URL:https://westbourneforum.org.uk/events/october-half-term-camps-wcc-2025
 -10-30/
SUMMARY:October half-term Camps - WCC
DESCRIPTION:\n\nBrainspark Camps is a ‘Change4Life’ award winning organ
 isation\, offering FREE HAF holiday camps across London. We enhance mental
 \, physical and emotional wellbeing through a unique range of fun\, action
 -packed\, high quality activities designed to engage neurodiverse and neur
 otypical children from all walks of life\;\n\nHealth Food &amp\; Nutrition
 : hot meals\, cooking\, portion plates\, fresh fruit and raw vegetables wi
 th lots of water throughout!\n\nSports &amp\; wellbeing: fencing\, archery
 \, skateboarding\, tennis\, ball games\, racquet sports\, rounders\, free 
 play\, yoga\, meditation\n\nSTEM &amp\; Educational Mobile Games: science 
 kits\, Lego Robotics\, playtest proprietary History / English / Climate ed
 ucational mobile games connecting virtual with real world!\n\nNature &amp\
 ; Climate action: bug pets\, gardening\, nature discovery walks\, park pic
 nics\, build-a-bug-hotel\, climate game activating real world climate acti
 on\n\nArts &amp\; crafts: drawing\, painting\, digital design\, candle mak
 ing\, soap making\, origami\,\n\nModel making &amp\; Board games: Life siz
 e ‘Connect4’ &amp\; ‘Snakes &amp\; Ladders’\, as well as Lego\, cl
 ay\, model making\n\nCultural Enrichment: Bekonscot Model Village\, Garric
 k Theatre\, Unicorn Theatre\, Design Museum\, Winter Wonderland\, Hyde Par
 k Pirate Ship\, bowling\,\n\nSEND friendly\nWe have some training or exper
 ience of Special Educational Needs &amp\; Disabilities and are able to acc
 ommodate children with low-level needs\, we do not offer 1:1. Contact us t
 o discuss how we can support your child.\n\nBooking and further details\n\
 nwww.brainsparkgames.com/camps\n020 3826 0051 or 07543 508 889\ncamps@brai
 nsparkgames.com
ATTACH;FMTTYPE=image/jpeg:https://i0.wp.com/westbourneforum.org.uk/wp-cont
 ent/uploads/2025/10/October-Half-Term-Camps-Westminster-banner.webp?fit=80
 0%2C445&ssl=1
LOCATION:Notting Hill Gate Tube Station\, Notting Hill Gate\, London\, Engl
 and\, W11 3HT\, Kensington and Chelsea\, United Kingdom
GEO:51.508977;-0.196737
X-APPLE-STRUCTURED-LOCATION;VALUE=URI;X-ADDRESS=Notting Hill Gate\, London\
 , England\, W11 3HT\, Kensington and Chelsea\, United Kingdom;X-APPLE-RADI
 US=100;X-TITLE=Notting Hill Gate Tube Station:geo:51.508977,-0.196737
ORGANIZER;CN="Westbourne Forum":MAILTO:westbourne-admin@westbourneforum.org.uk
END:VEVENT
BEGIN:VTIMEZONE
TZID:Europe/London
X-LIC-LOCATION:Europe/London
BEGIN:STANDARD
DTSTART:20251026T010000
TZOFFSETFROM:+0100
TZOFFSETTO:+0000
TZNAME:GMT
END:STANDARD
END:VTIMEZONE
END:VCALENDAR