BEGIN:VCALENDAR
VERSION:2.0
PRODID:-//wp-events-plugin.com//7.2.3.1//EN
TZID:Europe/London
X-WR-TIMEZONE:Europe/London
BEGIN:VEVENT
UID:1-15157@westbourneforum.org.uk
DTSTART;TZID=Europe/Istanbul:20241222T090000
DTEND;TZID=Europe/Istanbul:20241222T210000
DTSTAMP:20241217T063009Z
URL:https://westbourneforum.org.uk/events/npyc-xmas-haf-programme-2024-202
 4-12-22/
SUMMARY:NPYC Xmas HAF Programme 2024
DESCRIPTION:North Paddington Youth Club will be open between Christmas and 
 New Year offering activities on-site and a number of trips offsite which a
 re all FREE.\n\nWe will also be providing FREE food and drinks throughout 
 this festive season.\n\nSEND friendly\nWe have some training or experience
  of Special Educational Needs &amp\; Disabilities and are able to accommod
 ate children with low-level needs\, we do not offer 1:1. Contact us to dis
 cuss how we can support your child.\n\nEach child or young person will nee
 d to register as a member with North Paddington Youth Club before accessin
 g any onsite and offsite activities. You can do this by coming to the Club
  before the programme starts and register your child / young person\, foll
 owed by an induction of our building. Once that is completed\, then you ar
 e free to access all of our services we provide.\n\nNo need to book - Go t
 o the activity when it is available.\n\nFurther details\n\nwww.northpaddyo
 uth.com\n020 38750412\nclubmanager@northpaddyouth.com
ATTACH;FMTTYPE=image/jpeg:https://i0.wp.com/westbourneforum.org.uk/wp-cont
 ent/uploads/2024/12/NPYC-Xmas-HAF-Programme-Xmas-2024-banner.webp?fit=800%
 2C445&ssl=1
LOCATION:North Paddington Youth Club\, 229 Lanark Road\, London\, England\,
  W9 1EA\, Westminster\, United Kingdom
GEO:51.53207;-0.187474
X-APPLE-STRUCTURED-LOCATION;VALUE=URI;X-ADDRESS=229 Lanark Road\, London\, 
 England\, W9 1EA\, Westminster\, United Kingdom;X-APPLE-RADIUS=100;X-TITLE
 =North Paddington Youth Club:geo:51.53207,-0.187474
ORGANIZER;CN="Westbourne Forum":MAILTO:westbourne-admin@westbourneforum.org.uk
END:VEVENT
BEGIN:VTIMEZONE
TZID:Europe/Istanbul
X-LIC-LOCATION:Europe/Istanbul
BEGIN:STANDARD
DTSTART:20231223T090000
TZOFFSETFROM:+0300
TZOFFSETTO:+0300
TZNAME:+03
END:STANDARD
END:VTIMEZONE
END:VCALENDAR