BEGIN:VCALENDAR
VERSION:2.0
PRODID:-//wp-events-plugin.com//7.2.3.1//EN
TZID:Europe/London
X-WR-TIMEZONE:Europe/London
BEGIN:VEVENT
UID:1-5769@westbourneforum.org.uk
DTSTART;TZID=Europe/London:20230413T170000
DTEND;TZID=Europe/London:20230413T210000
DTSTAMP:20230408T051905Z
URL:https://westbourneforum.org.uk/events/npyc-easter-holiday-programme-20
 23-2-2023-04-13/
SUMMARY:NPYC Easter Holiday Programme 2023
DESCRIPTION:&nbsp\;\n\n&nbsp\;\n\nPLEASE NOTE: This project is part of the 
 Holiday Activities &amp\; Food (HAF) Programme\, for young people in Westm
 inster and Kensington &amp\; Chelsea who are eligible for Free School Meal
 s.*\n\nNorth Paddington Youth Club in Maida Vale will be running a full an
 d exciting 2 Week Easter programme from our new building which has 4 floor
 s including a full size sports hall. We will be open on both weekends so t
 here will be something for you to do on Saturdays and Sundays over the Eas
 ter Holidays.\n\nTrips out include\n- England v Brazil at Wembley (GIRLS O
 NLY TRIP) (FULLY BOOKED)\n- Coral Reef Indoor Waterpark in Surrey (FULLY B
 OOKED)\n- Horse Riding in Surrey (FULLY BOOKED)\n- London Lions v Newcastl
 e Eagles (Watch a LIVE Basketball Match) Copper Box Arena (FULLY BOOKED)\n
 \nWe are an inclusive Club so everyone is welcome!\n\nDetails of free meal
  provided: We will provide a mixture of hot and cold nutritious / healthy 
 meals at each session along with fresh fruit\, drinks and snacks throughou
 t the Easter Holidays.\n\nVenue name and address: North Paddington Youth C
 lub\, 229 Lanark Road\, Maida Vale\, London W91EA\nNearest bus stop: 16 98
  332\nNearest tube stop: Maida Vale (Bakerloo Line)\n\nContact email: club
 manager@northpaddyouth.com\nContact phone number: 020 3875 0412\n\n*Cost f
 or non-Free School Meals Children and Young People: Free\n\nBooking requir
 ed for Trips &amp\; Residentials but not for Youth Club sessions\n\nAges: 
 8 - 25\n\nEaster Schedule\n\n&nbsp\;
ATTACH;FMTTYPE=image/jpeg:https://i0.wp.com/westbourneforum.org.uk/wp-cont
 ent/uploads/2023/04/NPYC-Easter-Holiday-Programme-2023-quad-bikes-header.w
 ebp?fit=800%2C445&ssl=1
LOCATION:North Paddington Youth Club\, 229 Lanark Road\, London\, England\,
  W9 1EA\, Westminster\, United Kingdom
GEO:51.53207;-0.187474
X-APPLE-STRUCTURED-LOCATION;VALUE=URI;X-ADDRESS=229 Lanark Road\, London\, 
 England\, W9 1EA\, Westminster\, United Kingdom;X-APPLE-RADIUS=100;X-TITLE
 =North Paddington Youth Club:geo:51.53207,-0.187474
ORGANIZER;CN="Westbourne Forum":MAILTO:westbourne-admin@westbourneforum.org.uk
END:VEVENT
BEGIN:VTIMEZONE
TZID:Europe/London
X-LIC-LOCATION:Europe/London
BEGIN:DAYLIGHT
DTSTART:20230326T020000
TZOFFSETFROM:+0000
TZOFFSETTO:+0100
TZNAME:BST
END:DAYLIGHT
END:VTIMEZONE
END:VCALENDAR