BEGIN:VCALENDAR
VERSION:2.0
PRODID:-//wp-events-plugin.com//7.2.3.1//EN
TZID:Europe/London
X-WR-TIMEZONE:Europe/London
BEGIN:VEVENT
UID:1-8728@westbourneforum.org.uk
DTSTART;TZID=Europe/London:20231109T173000
DTEND;TZID=Europe/London:20231109T200000
DTSTAMP:20231106T201445Z
URL:https://westbourneforum.org.uk/events/north-paddington-high-streets-pr
 ogramme/
SUMMARY:North Paddington High Streets Programme
DESCRIPTION:This event is part and parcel of our autumn of engaging on the 
 North Paddington High Streets Programme\, which includes two pop-up engage
 ment hubs\, community workshops and digital surveys.\n\nThursday’s event
  is an opportunity for the Harrow Road\, Queen’s Park and Westbourne War
 d communities to have a tour of the interactive exhibition which showcases
  23 ideas for how to improve the local high streets\, engage in a public f
 orum and discussion with officers\, and enjoy locally made refreshments. W
 e hope it will be a pleasant and informative evening for all.\n\nWe hope t
 o see you there.\n\nBooking
ATTACH;FMTTYPE=image/jpeg:https://i0.wp.com/westbourneforum.org.uk/wp-cont
 ent/uploads/2023/11/North-Paddington-High-Streets-Programme-banner.webp?fi
 t=800%2C445&ssl=1
LOCATION:The Rebel School\, 470 Harrow Road\, London\, England\, W9 3RU\, W
 estminster\, United Kingdom
GEO:51.524062;-0.200607
X-APPLE-STRUCTURED-LOCATION;VALUE=URI;X-ADDRESS=470 Harrow Road\, London\, 
 England\, W9 3RU\, Westminster\, United Kingdom;X-APPLE-RADIUS=100;X-TITLE
 =The Rebel School:geo:51.524062,-0.200607
ORGANIZER;CN="Westbourne Forum":MAILTO:westbourne-admin@westbourneforum.org.uk
END:VEVENT
BEGIN:VTIMEZONE
TZID:Europe/London
X-LIC-LOCATION:Europe/London
BEGIN:STANDARD
DTSTART:20231029T010000
TZOFFSETFROM:+0100
TZOFFSETTO:+0000
TZNAME:GMT
END:STANDARD
END:VTIMEZONE
END:VCALENDAR