BEGIN:VCALENDAR
VERSION:2.0
PRODID:-//wp-events-plugin.com//7.2.3.1//EN
TZID:Europe/London
X-WR-TIMEZONE:Europe/London
BEGIN:VEVENT
UID:1-10561@westbourneforum.org.uk
DTSTART;TZID=Europe/London:20240307T100000
DTEND;TZID=Europe/London:20240307T120000
DTSTAMP:20240227T002116Z
URL:https://westbourneforum.org.uk/events/n-pop-north-paddington-opportuni
 ties-project-5/
SUMMARY:N-POP - North Paddington Opportunities Project
DESCRIPTION:\n\nFace Your Fears.\n\nUse this session to help identify and d
 iscuss what is holding you back.\n\n020 7266 8253\n\npdtesocial@pdt.org.uk
 \n\nwww.pdt.org.uk/north-paddington-support 
ATTACH;FMTTYPE=image/jpeg:https://i0.wp.com/westbourneforum.org.uk/wp-cont
 ent/uploads/2024/02/n-pop-banner.webp?fit=800%2C445&ssl=1
LOCATION:The Stowe Centre\, 258 Harrow Road\, Westminster\, London\, W2 5ES
 \, England\, United Kingdom
GEO:51.520203;-0.190324
X-APPLE-STRUCTURED-LOCATION;VALUE=URI;X-ADDRESS=258 Harrow Road\, Westminst
 er\, London\, W2 5ES\, England\, United Kingdom;X-APPLE-RADIUS=100;X-TITLE
 =The Stowe Centre:geo:51.520203,-0.190324
ORGANIZER;CN="Westbourne Forum":MAILTO:westbourne-admin@westbourneforum.org.uk
END:VEVENT
BEGIN:VTIMEZONE
TZID:Europe/London
X-LIC-LOCATION:Europe/London
BEGIN:STANDARD
DTSTART:20231029T010000
TZOFFSETFROM:+0100
TZOFFSETTO:+0000
TZNAME:GMT
END:STANDARD
END:VTIMEZONE
END:VCALENDAR