BEGIN:VCALENDAR
VERSION:2.0
PRODID:-//wp-events-plugin.com//7.2.3.1//EN
TZID:Europe/London
X-WR-TIMEZONE:Europe/London
BEGIN:VEVENT
UID:1-11846@westbourneforum.org.uk
DTSTART;TZID=Europe/London:20240612T130000
DTEND;TZID=Europe/London:20240612T150000
DTSTAMP:20240520T234537Z
URL:https://westbourneforum.org.uk/events/n-pop-north-paddington-opportuni
 ties-program/
SUMMARY:N-POP - North Paddington Opportunities Program
DESCRIPTION:\n020 7266 82S3\npdtesocial@pdt.org.uk\nwww.pdt.org.uk/pdt-empl
 oyment\n&nbsp\;\n\n&nbsp\;\n\n
ATTACH;FMTTYPE=image/jpeg:https://i0.wp.com/westbourneforum.org.uk/wp-cont
 ent/uploads/2024/05/N-POP-Schedule-Part-2-banner.webp?fit=800%2C445&ssl=1
LOCATION:W.E.C.H. Community Centre\, 36A Elgin Avenue\, London\, England\, 
 W9 3AZ\, Westminster\, United Kingdom
GEO:51.524548;-0.199449
X-APPLE-STRUCTURED-LOCATION;VALUE=URI;X-ADDRESS=36A Elgin Avenue\, London\,
  England\, W9 3AZ\, Westminster\, United Kingdom;X-APPLE-RADIUS=100;X-TITL
 E=W.E.C.H. Community Centre:geo:51.524548,-0.199449
ORGANIZER;CN="Westbourne Forum":MAILTO:westbourne-admin@westbourneforum.org.uk
END:VEVENT
BEGIN:VTIMEZONE
TZID:Europe/London
X-LIC-LOCATION:Europe/London
BEGIN:DAYLIGHT
DTSTART:20240331T020000
TZOFFSETFROM:+0000
TZOFFSETTO:+0100
TZNAME:BST
END:DAYLIGHT
END:VTIMEZONE
END:VCALENDAR