BEGIN:VCALENDAR
VERSION:2.0
PRODID:-//wp-events-plugin.com//7.2.3.1//EN
TZID:Europe/London
X-WR-TIMEZONE:Europe/London
BEGIN:VEVENT
UID:1-6455@westbourneforum.org.uk
DTSTART;TZID=Europe/London:20230809T083000
DTEND;TZID=Europe/London:20230809T170000
DTSTAMP:20230713T214007Z
URL:https://westbourneforum.org.uk/events/my-summer-adventure-2023-08-09/
SUMMARY:My Summer Adventure
DESCRIPTION:PLEASE NOTE: This project is part of the Holiday Activities &a
 mp\; Food (HAF) Programme\, for young people in Westminster who are eligib
 le for Free School Meals.*A six-week\, multi-activity holiday club program
 med designed to help children explore their capabilities\, make friends\, 
 and have fun! Our programme is powered by our whole of child philosophy th
 at looks to develop creativity &amp\; learning\, facilitate inclusion &amp
 \; participation\, and promote wellbeing &amp\; happiness.There’s someth
 ing for every child - through a variety of activities and challenges\, chi
 ldren will conquer\, challenge\, explore\, discover\, thrive\, create\, im
 agine\, learn\, grow\, build\, achieve and much more. With opportunities t
 o earn badges/stamps for each activity outcome to add to their summer adve
 nture log\, children will feel a sense of accomplishment as they progress 
 through the summer. Join us for an unforgettable summer full of adventure 
 and fun!\n\nVenue name and address: Seymour Leisure Centre - Seymour Pl\, 
 London W1H 5TJ\, UK\n\nContact email: hello@junioradventuresgroup.co.uk\n
 Contact phone number: 0333 577 1533\n\nBooking required\n\nHow to book:\n
 1. Please visit Breakfast\, After-School &amp\; Holiday Clubs | Junior A
 dventures Group &amp\; select 'Book a Club'\n2. Enter your desired HAF Ho
 liday Club location as the ‘centre’.\n3. Add your child(ren) to your a
 ccount before starting a booking.\n4. Ensure you’ve answered the consent
  questions and added collector\, emergency contacts and doctor details.\n5
 . You’re then ready to click ‘book activity.’ To ensure your booking
  is free of charge\, select ‘HAF-only activities.’\n6. Select the date
 s you wish to book.\n7. Enter the HAF promotional code at checkout - HAFSE
 YSUM23\n\nVenue page\n\n
ATTACH;FMTTYPE=image/jpeg:https://i0.wp.com/westbourneforum.org.uk/wp-cont
 ent/uploads/2023/07/painting-1-jag-578_2023-07-04-151434_fuao-header.webp?
 fit=800%2C445&ssl=1
LOCATION:Seymour Leisure Centre\, Seymour Place\, Westminster\, London\, W1
 H 5TJ\, England\, United Kingdom
GEO:51.518501;-0.163019
X-APPLE-STRUCTURED-LOCATION;VALUE=URI;X-ADDRESS=Seymour Place\, Westminster
 \, London\, W1H 5TJ\, England\, United Kingdom;X-APPLE-RADIUS=100;X-TITLE=
 Seymour Leisure Centre:geo:51.518501,-0.163019
ORGANIZER;CN="Westbourne Forum":MAILTO:westbourne-admin@westbourneforum.org.uk
END:VEVENT
BEGIN:VTIMEZONE
TZID:Europe/London
X-LIC-LOCATION:Europe/London
BEGIN:DAYLIGHT
DTSTART:20230326T020000
TZOFFSETFROM:+0000
TZOFFSETTO:+0100
TZNAME:BST
END:DAYLIGHT
END:VTIMEZONE
END:VCALENDAR