BEGIN:VCALENDAR
VERSION:2.0
PRODID:-//wp-events-plugin.com//7.2.3.1//EN
TZID:Europe/London
X-WR-TIMEZONE:Europe/London
BEGIN:VEVENT
UID:1-4657@westbourneforum.org.uk
DTSTART;TZID=Europe/London:20230314T100000
DTEND;TZID=Europe/London:20230314T104500
DTSTAMP:20230122T063442Z
URL:https://westbourneforum.org.uk/events/music-movement-more-suitable-for
 -toddlers-2-2023-03-14/
SUMMARY:Music & Movement ( More suitable for toddlers )
DESCRIPTION:On Tuesdays we welcome Julie from Creative Futures to deliver t
 wo lively and interactive singing sessions.\nOur Acorns stay and play sess
 ions are for families and carers with children under 5 years old.\nWe are 
 open to all on Tuesday\, Thursday and Friday with a families only session 
 on Wednesday.\nThe sessions make good use of the new purpose built facilit
 ies of Westbourne Park Baptist Church\, for children to play\, learn\, exp
 lore and socialise while parents and carers are encouraged to interact wit
 h them through a variety of activities.\n\nParenting advice and support of
 fered during sessions\nCharge per session\n£1 Families\n£2 Childminders\
 n£3 Nannies\n\nIf you have any questions please email Suna on: suna@westb
 ourneparkfamilycentre.org.uk\nIf you would like any specific parenting adv
 ice please email Wendy on: wendy@westbourneparkfamilycentre.org.uk
ATTACH;FMTTYPE=image/jpeg:https://i0.wp.com/westbourneforum.org.uk/wp-cont
 ent/uploads/2020/12/Acorns-Early-Years-drop-ins-WPFC-featured-image.jpg?fi
 t=800%2C445&ssl=1
LOCATION:Westbourne Park Family Centre\, Baptist Church\, Porchester Road\,
  Westminster\, London\, W2 5DX\, England\, United Kingdom
GEO:51.518597;-0.189192
X-APPLE-STRUCTURED-LOCATION;VALUE=URI;X-ADDRESS=Baptist Church\, Porchester
  Road\, Westminster\, London\, W2 5DX\, England\, United Kingdom;X-APPLE-R
 ADIUS=100;X-TITLE=Westbourne Park Family Centre:geo:51.518597,-0.189192
ORGANIZER;CN="Westbourne Forum":MAILTO:westbourne-admin@westbourneforum.org.uk
END:VEVENT
BEGIN:VTIMEZONE
TZID:Europe/London
X-LIC-LOCATION:Europe/London
BEGIN:STANDARD
DTSTART:20221030T010000
TZOFFSETFROM:+0100
TZOFFSETTO:+0000
TZNAME:GMT
END:STANDARD
END:VTIMEZONE
END:VCALENDAR