BEGIN:VCALENDAR
VERSION:2.0
PRODID:-//wp-events-plugin.com//7.2.3.1//EN
TZID:Europe/London
X-WR-TIMEZONE:Europe/London
BEGIN:VEVENT
UID:1-10711@westbourneforum.org.uk
DTSTART;TZID=Europe/London:20240214T121500
DTEND;TZID=Europe/London:20240214T134500
DTSTAMP:20240306T050938Z
URL:https://westbourneforum.org.uk/events/move-with-minou-2024-02-14/
SUMMARY:Move With Minou
DESCRIPTION:Embodied Meditation\, Breathwork & Somatic Movement Therapy\nDi
 scover the transformative power of mindfulness and self- care. This worksh
 op offers practical tools and techniques to cultivate mindfulness\, reduce
  stress\, enhance overall well-being and experience your own creativity.
ATTACH;FMTTYPE=image/jpeg:https://i0.wp.com/westbourneforum.org.uk/wp-cont
 ent/uploads/2024/02/move-with-minou-wednesdays-banner.webp?fit=800%2C445&s
 sl=1
LOCATION:JNC Fitness\, 31 Elkstone Road\, London\, England\, W10 5NT\, Kens
 ington and Chelsea\, United Kingdom
GEO:51.522228;-0.203126
X-APPLE-STRUCTURED-LOCATION;VALUE=URI;X-ADDRESS=31 Elkstone Road\, London\,
  England\, W10 5NT\, Kensington and Chelsea\, United Kingdom;X-APPLE-RADIU
 S=100;X-TITLE=JNC Fitness:geo:51.522228,-0.203126
ORGANIZER;CN="Westbourne Forum":MAILTO:westbourne-admin@westbourneforum.org.uk
END:VEVENT
BEGIN:VTIMEZONE
TZID:Europe/London
X-LIC-LOCATION:Europe/London
BEGIN:STANDARD
DTSTART:20231029T010000
TZOFFSETFROM:+0100
TZOFFSETTO:+0000
TZNAME:GMT
END:STANDARD
END:VTIMEZONE
END:VCALENDAR