BEGIN:VCALENDAR
VERSION:2.0
PRODID:-//wp-events-plugin.com//7.2.3.1//EN
TZID:Europe/London
X-WR-TIMEZONE:Europe/London
BEGIN:VEVENT
UID:1-12032@westbourneforum.org.uk
DTSTART;TZID=Europe/London:20240711T140000
DTEND;TZID=Europe/London:20240711T150000
DTSTAMP:20240606T000240Z
URL:https://westbourneforum.org.uk/events/mini-club-0-4-year-olds-parents-
 carers-2-2024-07-11/
SUMMARY:Mini Club ( 0 - 4 year Olds + parents / carers )
DESCRIPTION:\n\nBooking Form | Phone | Email\n\n\n..
ATTACH;FMTTYPE=image/jpeg:https://i0.wp.com/westbourneforum.org.uk/wp-cont
 ent/uploads/2024/06/Westminster-Change4-Life-Clubs-banner.webp?fit=1070%2C
 595&ssl=1
LOCATION:St. Vincent’s Family Project\, Methodist Central Hall\, Storey's
  Gate\, England\, SW1H 9NH\, Westminster\, United Kingdom
GEO:51.500249;-0.129894
X-APPLE-STRUCTURED-LOCATION;VALUE=URI;X-ADDRESS=Methodist Central Hall\, St
 orey's Gate\, England\, SW1H 9NH\, Westminster\, United Kingdom;X-APPLE-RA
 DIUS=100;X-TITLE=St. Vincent’s Family Project:geo:51.500249,-0.129894
ORGANIZER;CN="Westbourne Forum":MAILTO:westbourne-admin@westbourneforum.org.uk
END:VEVENT
BEGIN:VTIMEZONE
TZID:Europe/London
X-LIC-LOCATION:Europe/London
BEGIN:DAYLIGHT
DTSTART:20240331T020000
TZOFFSETFROM:+0000
TZOFFSETTO:+0100
TZNAME:BST
END:DAYLIGHT
END:VTIMEZONE
END:VCALENDAR