BEGIN:VCALENDAR
VERSION:2.0
PRODID:-//wp-events-plugin.com//7.2.3.1//EN
TZID:Europe/London
X-WR-TIMEZONE:Europe/London
BEGIN:VEVENT
UID:1-14728@westbourneforum.org.uk
DTSTART;TZID=Europe/London:20241215T160000
DTEND;TZID=Europe/London:20241215T230000
DTSTAMP:20241016T233557Z
URL:https://westbourneforum.org.uk/events/mi-soulfull-sundays-2-2024-12-15
 /
SUMMARY:Mi-Soulfull Sundays
DESCRIPTION:\n\nmi-soul.com\nEmail | Phone | Facebook |\nX | Instagram | Yo
 uTube\n\n&nbsp\;\n\n&nbsp\;\n\n&nbsp\;\n\n
ATTACH;FMTTYPE=image/jpeg:https://i0.wp.com/westbourneforum.org.uk/wp-cont
 ent/uploads/2024/10/Mi-Soulfull-Sundays-banner-v2.webp?fit=1077%2C599&ssl=
 1
LOCATION:UNDR\, 3 Thorpe Close\, London\, England\, W10 5XL\, Kensington an
 d Chelsea\, United Kingdom
GEO:51.518171;-0.208935
X-APPLE-STRUCTURED-LOCATION;VALUE=URI;X-ADDRESS=3 Thorpe Close\, London\, E
 ngland\, W10 5XL\, Kensington and Chelsea\, United Kingdom;X-APPLE-RADIUS=
 100;X-TITLE=UNDR:geo:51.518171,-0.208935
ORGANIZER;CN="Westbourne Forum":MAILTO:westbourne-admin@westbourneforum.org.uk
END:VEVENT
BEGIN:VTIMEZONE
TZID:Europe/London
X-LIC-LOCATION:Europe/London
BEGIN:STANDARD
DTSTART:20241027T010000
TZOFFSETFROM:+0100
TZOFFSETTO:+0000
TZNAME:GMT
END:STANDARD
END:VTIMEZONE
END:VCALENDAR