BEGIN:VCALENDAR
VERSION:2.0
PRODID:-//wp-events-plugin.com//7.2.3.1//EN
TZID:Europe/London
X-WR-TIMEZONE:Europe/London
BEGIN:VEVENT
UID:1-15238@westbourneforum.org.uk
DTSTART;TZID=Europe/London:20241228T120000
DTEND;TZID=Europe/London:20241228T150000
DTSTAMP:20241227T050410Z
URL:https://westbourneforum.org.uk/events/mexican-orchestra-music-model-au
 dition-signup-covers-band/
SUMMARY:Mexican Orchestra\, Music & Model Audition signup & Covers Band
DESCRIPTION:\n\n\n\n\nVisit Maida Hill Market and enjoy 3 x 20 minute perfo
 rmances by touring Mexican Children's Symphonic Orchestra. 12pm 1pm &amp\;
  2pm\n\nJoin in dance rehearsals with Zumba Sandra and Maida Hill Dominoes
  &amp\; Dominesses. 12.30 and 1.30pm\n\nSing along to the covers band Livi
 ng with Lara at 2.30pm.\n\nJoin in costume &amp\; headress Workshops by He
 len Davenport\, Art workshop with Seema Gill and Richard Heley. Sign up fo
 r Modelling auditions and...\n\nMeet Sing In The Ring organisers\, and sig
 n up by 7th January 2025 to audition to be a contestant\, for a chance to 
 win career boosting prizes. The Show takes place at All Stars Boxing Club 
 on 8\, 15 &amp\; 22nd February\n\n#musiccontest\n\n\n\n\n\nReserve a spot\
 n\n\n&nbsp\;
ATTACH;FMTTYPE=image/jpeg:https://i0.wp.com/westbourneforum.org.uk/wp-cont
 ent/uploads/2024/12/Mexican-Symphony-Orchestra-Music-Model-Audition-signup
 -Covers-Band-banner.webp?fit=800%2C445&ssl=1
LOCATION:Maida Hill Market\, Fernhead Road\, London\, England\, W9 3ET\, We
 stminster\, United Kingdom
GEO:51.524409;-0.201458
X-APPLE-STRUCTURED-LOCATION;VALUE=URI;X-ADDRESS=Fernhead Road\, London\, En
 gland\, W9 3ET\, Westminster\, United Kingdom;X-APPLE-RADIUS=100;X-TITLE=M
 aida Hill Market:geo:51.524409,-0.201458
ORGANIZER;CN="Westbourne Forum":MAILTO:westbourne-admin@westbourneforum.org.uk
END:VEVENT
BEGIN:VTIMEZONE
TZID:Europe/London
X-LIC-LOCATION:Europe/London
BEGIN:STANDARD
DTSTART:20241027T010000
TZOFFSETFROM:+0100
TZOFFSETTO:+0000
TZNAME:GMT
END:STANDARD
END:VTIMEZONE
END:VCALENDAR