BEGIN:VCALENDAR
VERSION:2.0
PRODID:-//wp-events-plugin.com//7.2.3.1//EN
TZID:Europe/London
X-WR-TIMEZONE:Europe/London
BEGIN:VEVENT
UID:1-8795@westbourneforum.org.uk
DTSTART;TZID=Europe/London:20231204T100000
DTEND;TZID=Europe/London:20231204T120000
DTSTAMP:20231125T213431Z
URL:https://westbourneforum.org.uk/events/merry-christmas-over-50s-music-f
 ood-games/
SUMMARY:Merry Christmas - Over 50's Music. Food & Games
DESCRIPTION:
ATTACH;FMTTYPE=image/jpeg:https://i0.wp.com/westbourneforum.org.uk/wp-cont
 ent/uploads/2023/11/Merry-Christmas-banner.webp?fit=800%2C444&ssl=1
LOCATION:Penfold Community Hub\, 60 Penfold Street\, London\, England\, NW8
  8PJ\, Westminster\, United Kingdom
GEO:51.523659;-0.172225
X-APPLE-STRUCTURED-LOCATION;VALUE=URI;X-ADDRESS=60 Penfold Street\, London\
 , England\, NW8 8PJ\, Westminster\, United Kingdom;X-APPLE-RADIUS=100;X-TI
 TLE=Penfold Community Hub:geo:51.523659,-0.172225
ORGANIZER;CN="Westbourne Forum":MAILTO:westbourne-admin@westbourneforum.org.uk
END:VEVENT
BEGIN:VTIMEZONE
TZID:Europe/London
X-LIC-LOCATION:Europe/London
BEGIN:STANDARD
DTSTART:20231029T010000
TZOFFSETFROM:+0100
TZOFFSETTO:+0000
TZNAME:GMT
END:STANDARD
END:VTIMEZONE
END:VCALENDAR