BEGIN:VCALENDAR
VERSION:2.0
PRODID:-//wp-events-plugin.com//7.2.3.1//EN
TZID:Europe/London
X-WR-TIMEZONE:Europe/London
BEGIN:VEVENT
UID:1-10688@westbourneforum.org.uk
DTSTART;TZID=Europe/London:20240312T090000
DTEND;TZID=Europe/London:20240312T170000
DTSTAMP:20240306T000457Z
URL:https://westbourneforum.org.uk/events/mental-health-first-aid-training
 -for-men-2024-03-12/
SUMMARY:Mental Health First Aid Training For Men
DESCRIPTION:\n\nTo reserve a free place please text or email Kimberley on 0
 7704 157 098 or kimberley@pdt.org.uk\n\nLimited Spaces Available 
ATTACH;FMTTYPE=image/jpeg:https://i0.wp.com/westbourneforum.org.uk/wp-cont
 ent/uploads/2024/03/Mental-Health-First-Aid-Training-for-MEN-March-banner-
 2.webp?fit=800%2C445&ssl=1
LOCATION:Happy Hub\, 23 Third Avenue\, Queen's Park\, England\, W10 4RS\, W
 estminster\, United Kingdom
GEO:51.528003;-0.207694
X-APPLE-STRUCTURED-LOCATION;VALUE=URI;X-ADDRESS=23 Third Avenue\, Queen's P
 ark\, England\, W10 4RS\, Westminster\, United Kingdom;X-APPLE-RADIUS=100;
 X-TITLE=Happy Hub:geo:51.528003,-0.207694
ORGANIZER;CN="Westbourne Forum":MAILTO:westbourne-admin@westbourneforum.org.uk
END:VEVENT
BEGIN:VTIMEZONE
TZID:Europe/London
X-LIC-LOCATION:Europe/London
BEGIN:STANDARD
DTSTART:20231029T010000
TZOFFSETFROM:+0100
TZOFFSETTO:+0000
TZNAME:GMT
END:STANDARD
END:VTIMEZONE
END:VCALENDAR