BEGIN:VCALENDAR
VERSION:2.0
PRODID:-//wp-events-plugin.com//7.2.3.1//EN
TZID:Europe/London
X-WR-TIMEZONE:Europe/London
BEGIN:VEVENT
UID:1-11811@westbourneforum.org.uk
DTSTART;TZID=Europe/London:20240531T100000
DTEND;TZID=Europe/London:20240531T140000
DTSTAMP:20240514T001459Z
URL:https://westbourneforum.org.uk/events/may-half-term-street-dance-camp-
 for-kids-and-teens-2024-05-31/
SUMMARY:May Half-Term Street Dance Camp For Kids and Teens
DESCRIPTION:Providing the best quality street dance in the UK with a French
  touch!\n\nWe teach all our students how to become dancers\, dance teacher
 s\, and choreographers!\n\nOur teachers specialise in all street dance sty
 les from Hip Hop\, Popping\, Locking\, House\, Breakdancing\, Lite feet\, 
 Commercial\, and Afro dances to name a few...\n\nChildren and young people
  will explore all the different street dance styles. The top dancers/teach
 ers from USDD Networks will come to give workshops each day in a different
  style. Participants will have the ability to meet professional dancers an
 d ask them questions throughout the day. At the end of the day\, participa
 nts will obtain a certificate of achievement for what they have learned.\n
 \nOutcomes:\n\nConfidence building\n\nSocial and interpersonal skills team
  building\n\nHealthy food and nutritional values\n\nNote: Some days may al
 ready have a waiting list. Once you have booked your space\, a member of o
 ur team will contact you via call or text to confirm your booking. Always 
 wait to be contacted before coming to the venue.\n\nCoaches: Lexi Maize / 
 Kayo / Philly\n\n(All our coaches are DBS checked)\n\nNearest bus stop: Su
 therland Avenue\nNearest tube stop: Warwick Avenue\n\nAge Category: 7 - 15
  years old\n\nGender: Mixed\n\nClothes: Comfortable\, jogger\, tracksuit\,
  leggings\n\nNo shorts\n\nBring water\n\n---------------------------------
 ---------------------------------\n\nParticipants arrival : 9.50am\n\nThe 
 workshop will start at 10 am and finish at 2.00 pm each day\n\nLunch will 
 be provided\, if you have any dietary requirements please do let us know a
 s soon as possible.\n\nWe also advise parents to bring snacks for their ch
 ildren just in case they do not fancy the food.\n\nCurrently\, all our ven
 ues have been tailored to be COVID-compliant and will take place in a safe
  environment.\n\nCost: FREE for ALL\n\nLIMITED SPACES ARE AVAILABLE! SIGN 
 UP NOW!\n\nBook your space today to secure your space\, for more info cont
 act 07513192618 or email info@usddacademy.co.uk\n\nWe hope to see you soon
  :)\n\nSEND FRIENDLY\nWe have some training or experience of Special Educa
 tional Needs &amp\; Disabilities and are able to accommodate children with
  low-level needs\, we do not offer 1:1. Contact us to discuss how we can s
 upport your child.\n\n&nbsp\;
ATTACH;FMTTYPE=image/jpeg:https://i0.wp.com/westbourneforum.org.uk/wp-cont
 ent/uploads/2024/05/May-Half-Term-Street-Dance-Camp-For-Kids-and-Teens-ban
 ner.webp?fit=800%2C445&ssl=1
LOCATION:Paddington Academy\, 50 Marylands Road\, London\, England\, W9 2DR
 \, Westminster\, United Kingdom
GEO:51.52495;-0.192892
X-APPLE-STRUCTURED-LOCATION;VALUE=URI;X-ADDRESS=50 Marylands Road\, London\
 , England\, W9 2DR\, Westminster\, United Kingdom;X-APPLE-RADIUS=100;X-TIT
 LE=Paddington Academy:geo:51.52495,-0.192892
ORGANIZER;CN="Westbourne Forum":MAILTO:westbourne-admin@westbourneforum.org.uk
END:VEVENT
BEGIN:VTIMEZONE
TZID:Europe/London
X-LIC-LOCATION:Europe/London
BEGIN:DAYLIGHT
DTSTART:20240331T020000
TZOFFSETFROM:+0000
TZOFFSETTO:+0100
TZNAME:BST
END:DAYLIGHT
END:VTIMEZONE
END:VCALENDAR