BEGIN:VCALENDAR
VERSION:2.0
PRODID:-//wp-events-plugin.com//7.2.3.1//EN
TZID:Europe/London
X-WR-TIMEZONE:Europe/London
BEGIN:VEVENT
UID:1-11723@westbourneforum.org.uk
DTSTART;TZID=Europe/London:20240528T120000
DTEND;TZID=Europe/London:20240528T204500
DTSTAMP:20240506T203334Z
URL:https://westbourneforum.org.uk/events/may-half-term-juniors-2024-05-28
 /
SUMMARY:May Half Term - Juniors
DESCRIPTION:PLEASE NOTE: This project is part of the Holiday Activities &am
 p\; Food (HAF) Programme\, for young people in Westminster and Kensington 
 &amp\; Chelsea who are eligible for benefits-related Free School Meals*\n\
 nConsent forms will be available one week before the trips are due. Bookin
 g is required. You can do this by seeing a member of staff at the Youth Cl
 ub or sending an email to clubmanager@northpaddyouth.com\n\nThere is no ne
 ed to book a place for any of our onsite sessions. Just turn up and comple
 te a Membership Form to become a member.\n\nPlaces are limited so please a
 rrive early to guarantee a place.\n\nIts FREE to join!!\n\nAs we will be a
 rriving back home from some of the trips late at night and for safety reas
 ons\, we will be providing a drop off service in our Minibus to your home 
 address.\nThis service is for Westminster members and local surrounding bo
 roughs only\n\nIf you need any additional support in travelling to and fro
 m any of our sessions or cannot travel independently\, please see a member
  of staff for further details on how we can support you.\n\nNorth Paddingt
 on Youth Club is an inclusive Club\, so all children and young people are 
 welcome to participate in any of our sessions.\n\nIf you require additiona
 l support to make this happen\, please see a member of staff.\n\nSEND FRIE
 NDLY\nWe have some training or experience of Special Educational Needs &am
 p\; Disabilities and are able to accommodate children with low-level needs
 \, we do not offer 1:1. Contact us to discuss how we can support your chil
 d.\n\nAge 8 - 12\n\nFurther Details
ATTACH;FMTTYPE=image/jpeg:https://i0.wp.com/westbourneforum.org.uk/wp-cont
 ent/uploads/2024/05/May-Half-Term-Juniors-banner.webp?fit=800%2C445&ssl=1
LOCATION:North Paddington Youth Club\, 229 Lanark Road\, London\, England\,
  W9 1EA\, Westminster\, United Kingdom
GEO:51.53207;-0.187474
X-APPLE-STRUCTURED-LOCATION;VALUE=URI;X-ADDRESS=229 Lanark Road\, London\, 
 England\, W9 1EA\, Westminster\, United Kingdom;X-APPLE-RADIUS=100;X-TITLE
 =North Paddington Youth Club:geo:51.53207,-0.187474
ORGANIZER;CN="Westbourne Forum":MAILTO:westbourne-admin@westbourneforum.org.uk
END:VEVENT
BEGIN:VTIMEZONE
TZID:Europe/London
X-LIC-LOCATION:Europe/London
BEGIN:DAYLIGHT
DTSTART:20240331T020000
TZOFFSETFROM:+0000
TZOFFSETTO:+0100
TZNAME:BST
END:DAYLIGHT
END:VTIMEZONE
END:VCALENDAR