BEGIN:VCALENDAR
VERSION:2.0
PRODID:-//wp-events-plugin.com//7.2.3.1//EN
TZID:Europe/London
X-WR-TIMEZONE:Europe/London
BEGIN:VEVENT
UID:1-11801@westbourneforum.org.uk
DTSTART;TZID=Europe/London:20240529T130000
DTEND;TZID=Europe/London:20240529T170000
DTSTAMP:20240513T235419Z
URL:https://westbourneforum.org.uk/events/may-half-term-camp-with-treasure
 -boxing-2024-05-29/
SUMMARY:May Half Term Camp with Treasure Boxing
DESCRIPTION:Boxing camp during holidays. Exercise. Games. Boxing and lunch.
 \n\nSEND FRIENDLY\nWe have some training or experience of Special Educatio
 nal Needs &amp\; Disabilities and are able to accommodate children with lo
 w-level needs\, we do not offer 1:1.\n\nContact us to discuss how we can s
 upport your child.\n\nBooking and further details
ATTACH;FMTTYPE=image/jpeg:https://i0.wp.com/westbourneforum.org.uk/wp-cont
 ent/uploads/2024/05/Treasure-boxing-May-half-term-2024-banner.webp?fit=116
 0%2C644&ssl=1
LOCATION:Moberly Sports Centre\, 25 Chamberlayne Road\, Kensal Rise\, Londo
 n\, NW10 3NB\, England\, United Kingdom
GEO:51.530933;-0.216572
X-APPLE-STRUCTURED-LOCATION;VALUE=URI;X-ADDRESS=25 Chamberlayne Road\, Kens
 al Rise\, London\, NW10 3NB\, England\, United Kingdom;X-APPLE-RADIUS=100;
 X-TITLE=Moberly Sports Centre:geo:51.530933,-0.216572
ORGANIZER;CN="Westbourne Forum":MAILTO:westbourne-admin@westbourneforum.org.uk
END:VEVENT
BEGIN:VTIMEZONE
TZID:Europe/London
X-LIC-LOCATION:Europe/London
BEGIN:DAYLIGHT
DTSTART:20240331T020000
TZOFFSETFROM:+0000
TZOFFSETTO:+0100
TZNAME:BST
END:DAYLIGHT
END:VTIMEZONE
END:VCALENDAR