BEGIN:VCALENDAR
VERSION:2.0
PRODID:-//wp-events-plugin.com//7.2.3.1//EN
TZID:Europe/London
X-WR-TIMEZONE:Europe/London
BEGIN:VEVENT
UID:1-11601@westbourneforum.org.uk
DTSTART;TZID=Europe/London:20240530T100000
DTEND;TZID=Europe/London:20240530T160000
DTSTAMP:20240506T205037Z
URL:https://westbourneforum.org.uk/events/may-half-term-2024-2024-05-30/
SUMMARY:May Half Term 2024
DESCRIPTION:Activities take place in our purpose-built youth facility in No
 rth Westminster.\n\nChildren aged 8 - 18 are grouped by age and choose sti
 mulating\, fun activities that interest them\, including sports and games\
 , music\, cooking skills\, art and design\, dance and more.\n\nSessions ar
 e led by our team of trained youth workers\, who provide support and guida
 nce to the children\, working to build their confidence and encourage them
  to develop new skills. Staff-to-child ratios are usually 1:8.\n\nAll acti
 vities are free to use and we provide a free breakfast bar and cooked lunc
 h.\n\nAge 8 - 18\n\nSEND FRIENDLY\nWe have some training or experience of 
 Special Educational Needs &amp\; Disabilities and are able to accommodate 
 children with low-level needs\, we do not offer 1:1. Contact us to discuss
  how we can support your child.\n\nNO NEED TO BOOK\nGo to the activity whe
 n it is available.
ATTACH;FMTTYPE=image/jpeg:https://i0.wp.com/westbourneforum.org.uk/wp-cont
 ent/uploads/2023/04/Avenues-Collage-header.webp?fit=800%2C445&ssl=1
LOCATION:The Avenues Youth Project\, 3 - 7 Third Avenue\, Queen's Park\, En
 gland\, W10 4RS\, Westminster\, United Kingdom
GEO:51.527092;-0.207978
X-APPLE-STRUCTURED-LOCATION;VALUE=URI;X-ADDRESS=3 - 7 Third Avenue\, Queen'
 s Park\, England\, W10 4RS\, Westminster\, United Kingdom;X-APPLE-RADIUS=1
 00;X-TITLE=The Avenues Youth Project:geo:51.527092,-0.207978
ORGANIZER;CN="Westbourne Forum":MAILTO:westbourne-admin@westbourneforum.org.uk
END:VEVENT
BEGIN:VTIMEZONE
TZID:Europe/London
X-LIC-LOCATION:Europe/London
BEGIN:DAYLIGHT
DTSTART:20240331T020000
TZOFFSETFROM:+0000
TZOFFSETTO:+0100
TZNAME:BST
END:DAYLIGHT
END:VTIMEZONE
END:VCALENDAR