BEGIN:VCALENDAR
VERSION:2.0
PRODID:-//wp-events-plugin.com//7.2.3.1//EN
TZID:Europe/London
X-WR-TIMEZONE:Europe/London
BEGIN:VEVENT
UID:1-3495@westbourneforum.org.uk
DTSTART;TZID=Europe/London:20220202T130000
DTEND;TZID=Europe/London:20220202T150000
DTSTAMP:20220202T051418Z
URL:https://westbourneforum.org.uk/events/maternity-champions-drop-ins-5-2
 022-02-02/
SUMMARY:Maternity Champions Drop In
DESCRIPTION:
ATTACH;FMTTYPE=image/jpeg:https://i0.wp.com/westbourneforum.org.uk/wp-cont
 ent/uploads/2022/02/Maternity-Champions-spring-schedule-2.webp?fit=800%2C4
 45&ssl=1
LOCATION:Family Hub\, Portman Early Childhood Centre\,  12 - 18 Salisbury S
 treet\, London\, England\, NW8 8DE\, Westminster\, United Kingdom
GEO:51.522922;-0.168906
X-APPLE-STRUCTURED-LOCATION;VALUE=URI;X-ADDRESS= 12 - 18 Salisbury Street\,
  London\, England\, NW8 8DE\, Westminster\, United Kingdom;X-APPLE-RADIUS=
 100;X-TITLE=Family Hub\, Portman Early Childhood Centre:geo:51.522922,-0.1
 68906
ORGANIZER;CN="Westbourne Forum":MAILTO:westbourne-admin@westbourneforum.org.uk
END:VEVENT
BEGIN:VTIMEZONE
TZID:Europe/London
X-LIC-LOCATION:Europe/London
BEGIN:STANDARD
DTSTART:20211031T010000
TZOFFSETFROM:+0100
TZOFFSETTO:+0000
TZNAME:GMT
END:STANDARD
END:VTIMEZONE
END:VCALENDAR