BEGIN:VCALENDAR
VERSION:2.0
PRODID:-//wp-events-plugin.com//7.2.3.1//EN
TZID:Europe/London
X-WR-TIMEZONE:Europe/London
BEGIN:VEVENT
UID:1-4171@westbourneforum.org.uk
DTSTART;TZID=Europe/London:20220907T163000
DTEND;TZID=Europe/London:20220907T180000
DTSTAMP:20220910T022318Z
URL:https://westbourneforum.org.uk/events/manga-club-xpress-2-2022-09-07/
SUMMARY:Manga Club 'Xpress
DESCRIPTION:Registration Form\n\nFor more information please contact Geoff 
 Biggs on 07941 110 076 or email info@westbourneparkfamilycentre.org.uk\n\
 n
ATTACH;FMTTYPE=image/jpeg:https://i0.wp.com/westbourneforum.org.uk/wp-cont
 ent/uploads/2022/01/Manga-Club-Xpress-header-2.webp?fit=800%2C445&ssl=1
LOCATION:Westbourne Park Family Centre\, Baptist Church\, Porchester Road\,
  Westminster\, London\, W2 5DX\, England\, United Kingdom
GEO:51.518597;-0.189192
X-APPLE-STRUCTURED-LOCATION;VALUE=URI;X-ADDRESS=Baptist Church\, Porchester
  Road\, Westminster\, London\, W2 5DX\, England\, United Kingdom;X-APPLE-R
 ADIUS=100;X-TITLE=Westbourne Park Family Centre:geo:51.518597,-0.189192
ORGANIZER;CN="Westbourne Forum":MAILTO:westbourne-admin@westbourneforum.org.uk
END:VEVENT
BEGIN:VTIMEZONE
TZID:Europe/London
X-LIC-LOCATION:Europe/London
BEGIN:DAYLIGHT
DTSTART:20220327T020000
TZOFFSETFROM:+0000
TZOFFSETTO:+0100
TZNAME:BST
END:DAYLIGHT
END:VTIMEZONE
END:VCALENDAR