BEGIN:VCALENDAR
VERSION:2.0
PRODID:-//wp-events-plugin.com//7.2.3.1//EN
TZID:Europe/London
X-WR-TIMEZONE:Europe/London
BEGIN:VEVENT
UID:1-8287@westbourneforum.org.uk
DTSTART;TZID=Europe/London:20231128T190000
DTEND;TZID=Europe/London:20231128T210000
DTSTAMP:20230920T040251Z
URL:https://westbourneforum.org.uk/events/man-v-fat-football-2023-11-28/
SUMMARY:Man v Fat football
DESCRIPTION:\n\nBooking Required
ATTACH;FMTTYPE=image/jpeg:https://i0.wp.com/westbourneforum.org.uk/wp-cont
 ent/uploads/2023/09/Man-v-Fat-Football-banner.webp?fit=889%2C494&ssl=1
LOCATION:Westminster Academy\, 255 Harrow Road\, London\, England\, W2 5EZ\
 , Westminster\, United Kingdom
GEO:51.520914;-0.192111
X-APPLE-STRUCTURED-LOCATION;VALUE=URI;X-ADDRESS=255 Harrow Road\, London\, 
 England\, W2 5EZ\, Westminster\, United Kingdom;X-APPLE-RADIUS=100;X-TITLE
 =Westminster Academy:geo:51.520914,-0.192111
ORGANIZER;CN="Westbourne Forum":MAILTO:westbourne-admin@westbourneforum.org.uk
END:VEVENT
BEGIN:VTIMEZONE
TZID:Europe/London
X-LIC-LOCATION:Europe/London
BEGIN:STANDARD
DTSTART:20231029T010000
TZOFFSETFROM:+0100
TZOFFSETTO:+0000
TZNAME:GMT
END:STANDARD
END:VTIMEZONE
END:VCALENDAR