BEGIN:VCALENDAR
VERSION:2.0
PRODID:-//wp-events-plugin.com//7.2.3.1//EN
TZID:Europe/London
X-WR-TIMEZONE:Europe/London
BEGIN:VEVENT
UID:1-3526@westbourneforum.org.uk
DTSTART;TZID=Europe/London:20220222T123000
DTEND;TZID=Europe/London:20220222T140000
DTSTAMP:20220318T013210Z
URL:https://westbourneforum.org.uk/events/make-westbourne-greener-healthei
 r-and-better-for-nature/
SUMMARY:Make Westbourne greener\, healthier and better for nature
DESCRIPTION:Do you want to make Westbourne greener\, healtheir and better f
 or nature?\n\nJoin us on Zoom or in person to get inspired and excited abo
 ut how we can work together to make Westbourne greener.\n\nHear from guest
  speakers who have made their areas Greener\, Healthier and Better for Nat
 ure!
ATTACH;FMTTYPE=image/jpeg:https://i0.wp.com/westbourneforum.org.uk/wp-cont
 ent/uploads/2022/02/Green-Westbourne-Spring-Meeting-header3.webp?fit=1668%
 2C1010&ssl=1
LOCATION:Westbourne Park Family Centre\, Baptist Church\, Porchester Road\,
  Westminster\, London\, W2 5DX\, England\, United Kingdom
GEO:51.518597;-0.189192
X-APPLE-STRUCTURED-LOCATION;VALUE=URI;X-ADDRESS=Baptist Church\, Porchester
  Road\, Westminster\, London\, W2 5DX\, England\, United Kingdom;X-APPLE-R
 ADIUS=100;X-TITLE=Westbourne Park Family Centre:geo:51.518597,-0.189192
ORGANIZER;CN="Westbourne Forum":MAILTO:westbourne-admin@westbourneforum.org.uk
END:VEVENT
BEGIN:VTIMEZONE
TZID:Europe/London
X-LIC-LOCATION:Europe/London
BEGIN:STANDARD
DTSTART:20211031T010000
TZOFFSETFROM:+0100
TZOFFSETTO:+0000
TZNAME:GMT
END:STANDARD
END:VTIMEZONE
END:VCALENDAR