BEGIN:VCALENDAR
VERSION:2.0
PRODID:-//wp-events-plugin.com//7.2.3.1//EN
TZID:Europe/London
X-WR-TIMEZONE:Europe/London
BEGIN:VEVENT
UID:1-38@westbourneforum.org.uk
DTSTART;TZID=Europe/London:20190628T160000
DTEND;TZID=Europe/London:20190628T200000
DTSTAMP:20190717T223848Z
URL:https://westbourneforum.org.uk/events/main-stage-at-maida-hill/
SUMMARY:Main Stage at Maida Hill
DESCRIPTION:4 - 6 pm\nCreative recycling workshop - Valerie\nTracy Fabfacey
  face painting \nZumba Sandra\nMr Magic Bubbles\n\n\n6 pm\nHai Saint\nJay
 ana\n\n\n\n&nbsp\;
LOCATION:Maida Hill Market\, Fernhead Road\, London\, England\, W9 3ET\, We
 stminster\, United Kingdom
GEO:51.524409;-0.201458
X-APPLE-STRUCTURED-LOCATION;VALUE=URI;X-ADDRESS=Fernhead Road\, London\, En
 gland\, W9 3ET\, Westminster\, United Kingdom;X-APPLE-RADIUS=100;X-TITLE=M
 aida Hill Market:geo:51.524409,-0.201458
ORGANIZER;CN="Westbourne Forum":MAILTO:westbourne-admin@westbourneforum.org.uk
END:VEVENT
BEGIN:VTIMEZONE
TZID:Europe/London
X-LIC-LOCATION:Europe/London
BEGIN:DAYLIGHT
DTSTART:20190331T020000
TZOFFSETFROM:+0000
TZOFFSETTO:+0100
TZNAME:BST
END:DAYLIGHT
END:VTIMEZONE
END:VCALENDAR