BEGIN:VCALENDAR
VERSION:2.0
PRODID:-//wp-events-plugin.com//7.2.3.1//EN
TZID:Europe/London
X-WR-TIMEZONE:Europe/London
BEGIN:VEVENT
UID:1-8735@westbourneforum.org.uk
DTSTART;TZID=Europe/London:20231202T150000
DTEND;TZID=Europe/London:20231202T170000
DTSTAMP:20231107T211005Z
URL:https://westbourneforum.org.uk/events/maida-hill-lights-2023/
SUMMARY:Maida Hill Lights 2023
DESCRIPTION:
ATTACH;FMTTYPE=image/jpeg:https://i0.wp.com/westbourneforum.org.uk/wp-cont
 ent/uploads/2023/11/Maida-Hill-Lights-2023-banner.webp?fit=848%2C471&ssl=1
LOCATION:Maida Hill Market\, Fernhead Road\, London\, England\, W9 3ET\, We
 stminster\, United Kingdom
GEO:51.524409;-0.201458
X-APPLE-STRUCTURED-LOCATION;VALUE=URI;X-ADDRESS=Fernhead Road\, London\, En
 gland\, W9 3ET\, Westminster\, United Kingdom;X-APPLE-RADIUS=100;X-TITLE=M
 aida Hill Market:geo:51.524409,-0.201458
ORGANIZER;CN="Westbourne Forum":MAILTO:westbourne-admin@westbourneforum.org.uk
END:VEVENT
BEGIN:VTIMEZONE
TZID:Europe/London
X-LIC-LOCATION:Europe/London
BEGIN:STANDARD
DTSTART:20231029T010000
TZOFFSETFROM:+0100
TZOFFSETTO:+0000
TZNAME:GMT
END:STANDARD
END:VTIMEZONE
END:VCALENDAR