BEGIN:VCALENDAR
VERSION:2.0
PRODID:-//wp-events-plugin.com//7.2.3.1//EN
TZID:Europe/London
X-WR-TIMEZONE:Europe/London
BEGIN:VEVENT
UID:1-7978@westbourneforum.org.uk
DTSTART;TZID=Europe/London:20231021T110000
DTEND;TZID=Europe/London:20231021T120000
DTSTAMP:20230911T020401Z
URL:https://westbourneforum.org.uk/events/lyngo-theatre-presents-jack-and-
 the-beanstalk-3/
SUMMARY:Lyngo Theatre Presents Jack And The Beanstalk
DESCRIPTION:A gripping one person show of a classic fairy tale\, as Jack se
 lls his cow for five magic beans and finds himself in the land above the c
 louds.\n\nA show for ages 3+ ( and their giants ) with something for every
 one – enormous shoes\, tiny houses\, showers of silver and gold and a bi
 g leafy explosion!\n\nRunning time 1 hour\n\nFri 20 Oct ( schools performa
 nces ) and Sat 21 Oct 2023 ( public performances ) 11.00 and 14.00\n\nPay 
 What You Can\n\nFurther details and bookings
ATTACH;FMTTYPE=image/jpeg:https://i0.wp.com/westbourneforum.org.uk/wp-cont
 ent/uploads/2023/09/Lyngo-Theatre-Presents-Jack-And-The-Beanstalk-banner.w
 ebp?fit=1389%2C772&ssl=1
LOCATION:Grand Junction\, St Mary Magdalene Church\, Rowington Close\, West
 minster\, London\, W2 5TF\, England\, United Kingdom
GEO:51.5224;-0.188497
X-APPLE-STRUCTURED-LOCATION;VALUE=URI;X-ADDRESS=St Mary Magdalene Church\, 
 Rowington Close\, Westminster\, London\, W2 5TF\, England\, United Kingdom
 ;X-APPLE-RADIUS=100;X-TITLE=Grand Junction:geo:51.5224,-0.188497
ORGANIZER;CN="Westbourne Forum":MAILTO:westbourne-admin@westbourneforum.org.uk
END:VEVENT
BEGIN:VTIMEZONE
TZID:Europe/London
X-LIC-LOCATION:Europe/London
BEGIN:DAYLIGHT
DTSTART:20230326T020000
TZOFFSETFROM:+0000
TZOFFSETTO:+0100
TZNAME:BST
END:DAYLIGHT
END:VTIMEZONE
END:VCALENDAR