BEGIN:VCALENDAR
VERSION:2.0
PRODID:-//wp-events-plugin.com//7.2.3.1//EN
TZID:Europe/London
X-WR-TIMEZONE:Europe/London
BEGIN:VEVENT
UID:1-8765@westbourneforum.org.uk
DTSTART;TZID=Europe/London:20231118T143000
DTEND;TZID=Europe/London:20231118T163000
DTSTAMP:20231113T193105Z
URL:https://westbourneforum.org.uk/events/luxurious-beauty-products-for-la
 dies-gents-skin-care/
SUMMARY:Luxurious beauty products for Ladies & Gents - Skin care
DESCRIPTION:\n\nvivi.wallenius@gmail.com
ATTACH;FMTTYPE=image/jpeg:https://i0.wp.com/westbourneforum.org.uk/wp-cont
 ent/uploads/2023/11/Luxurious-beauty-products-for-Ladies-Gents-Skin-care-.
 webp?fit=902%2C502&ssl=1
LOCATION:Church Street Library\, 67 Church Street\, London\, England\, NW8 
 8EU\, Westminster\, United Kingdom
GEO:51.523215;-0.170393
X-APPLE-STRUCTURED-LOCATION;VALUE=URI;X-ADDRESS=67 Church Street\, London\,
  England\, NW8 8EU\, Westminster\, United Kingdom;X-APPLE-RADIUS=100;X-TIT
 LE=Church Street Library:geo:51.523215,-0.170393
ORGANIZER;CN="Westbourne Forum":MAILTO:westbourne-admin@westbourneforum.org.uk
END:VEVENT
BEGIN:VTIMEZONE
TZID:Europe/London
X-LIC-LOCATION:Europe/London
BEGIN:STANDARD
DTSTART:20231029T010000
TZOFFSETFROM:+0100
TZOFFSETTO:+0000
TZNAME:GMT
END:STANDARD
END:VTIMEZONE
END:VCALENDAR