BEGIN:VCALENDAR
VERSION:2.0
PRODID:-//wp-events-plugin.com//7.2.3.1//EN
TZID:Europe/London
X-WR-TIMEZONE:Europe/London
BEGIN:VEVENT
UID:1-20900@westbourneforum.org.uk
DTSTART;TZID=Europe/London:20260409T130000
DTEND;TZID=Europe/London:20260409T170000
DTSTAMP:20260311T035610Z
URL:https://westbourneforum.org.uk/events/london-tigers-easter-2026-holida
 y-programme-2026-03-30-2026-03-31-2026-04-01-2026-04-02-2026-04-06-2026-04
 -07-2026-04-08-2026-04-09/
SUMMARY:London Tigers' Easter 2026 Holiday Programme
DESCRIPTION:\n\nLondon Tigers will deliver a wide range of multi sports act
 ivities including football cricket\, basketball\, dodgeball and fun fitnes
 s small-sided games for children ages 8 years to 16 years during the Easte
 r Half Term from Lisson Green Estate sport pitches.\n\nDetails of free mea
 l provided: Healthy meal with sandwiches\, hot meal\, fruit and drink\n\nD
 ate and Time:\nWeek 1: 30th March to 2nd April 2026\nWeek 2: 6th to 9th Ap
 ril 2026\n1 pm to 5 pm\n\nNearest bus stop: Lisson Grove Road and Lisson G
 rove\nNearest tube stop: Marylebone station\n\nContact email: zahid@london
 tigers.org\n\nContact phone number: 07907 572 427\n\nLimited Spaces!!\n\nB
 ooking and further details.
ATTACH;FMTTYPE=image/jpeg:https://i0.wp.com/westbourneforum.org.uk/wp-cont
 ent/uploads/2025/03/Easter-Holiday-Programme-Lisson-Green-Estate-Sports-Pi
 tch-banner.webp?fit=800%2C445&ssl=1
LOCATION:Lisson Green Sports Pitch\, 17 Swain Street\, London\, England\, N
 W8 8RZ\, Westminster\, United Kingdom
GEO:51.526715;-0.168271
X-APPLE-STRUCTURED-LOCATION;VALUE=URI;X-ADDRESS=17 Swain Street\, London\, 
 England\, NW8 8RZ\, Westminster\, United Kingdom;X-APPLE-RADIUS=100;X-TITL
 E=Lisson Green Sports Pitch:geo:51.526715,-0.168271
ORGANIZER;CN="Westbourne Forum":MAILTO:westbourne-admin@westbourneforum.org.uk
END:VEVENT
BEGIN:VTIMEZONE
TZID:Europe/London
X-LIC-LOCATION:Europe/London
BEGIN:DAYLIGHT
DTSTART:20260329T020000
TZOFFSETFROM:+0000
TZOFFSETTO:+0100
TZNAME:BST
END:DAYLIGHT
END:VTIMEZONE
END:VCALENDAR