BEGIN:VCALENDAR
VERSION:2.0
PRODID:-//wp-events-plugin.com//7.2.3.1//EN
TZID:Europe/London
X-WR-TIMEZONE:Europe/London
BEGIN:VEVENT
UID:1-75@westbourneforum.org.uk
DTSTART;TZID=Europe/London:20201210T110000
DTEND;TZID=Europe/London:20201210T130000
DTSTAMP:20201211T161625Z
URL:https://westbourneforum.org.uk/events/lets-take-a-walk-2020-12-10/
SUMMARY:Let's Take A Walk
DESCRIPTION:JOIN US\n\nFeel good! Get outdoors! Stay active!\n\nMeet other 
 people from your area!\n\nSocially distanced and in line with COVID guidel
 ines!\n\n\n\nWHERE:\nAround Westbourne\n\n\nHOW FAR:\n1 – 4 miles (30 mi
 nutes to 2 hours)\n\n\nWHO CAN COME:\nAnyone! We do short\, long\, fast an
 d slow walks! (As long as you book)\n\n\n\nLIMITED PLACES – FOR DETAILS 
 OF THIS WEEK’S WALK\nAND TO BOOK A PLACE CONTACT LIZZIE ON 07593690705\n
 &nbsp\;\n\n&nbsp\;
ATTACH;FMTTYPE=image/jpeg:https://i0.wp.com/westbourneforum.org.uk/wp-cont
 ent/uploads/2020/12/Walking-Group-Flyer-Oct-20-featured-image-.png?fit=240
 0%2C1335&ssl=1
ORGANIZER;CN="Westbourne Forum":MAILTO:westbourne-admin@westbourneforum.org.uk
END:VEVENT
BEGIN:VTIMEZONE
TZID:Europe/London
X-LIC-LOCATION:Europe/London
BEGIN:STANDARD
DTSTART:20201025T010000
TZOFFSETFROM:+0100
TZOFFSETTO:+0000
TZNAME:GMT
END:STANDARD
END:VTIMEZONE
END:VCALENDAR