BEGIN:VCALENDAR
VERSION:2.0
PRODID:-//wp-events-plugin.com//7.2.3.1//EN
TZID:Europe/London
X-WR-TIMEZONE:Europe/London
BEGIN:VEVENT
UID:1-9902@westbourneforum.org.uk
DTSTART;TZID=Europe/London:20240211T110000
DTEND;TZID=Europe/London:20240211T130000
DTSTAMP:20240121T184324Z
URL:https://westbourneforum.org.uk/events/lets-grow-westbourne-6-2024-02-1
 1/
SUMMARY:Let's Grow Westbourne
DESCRIPTION:\n\nCall Lina on 07801 749 828\nor email lina@pdt.org.uk\nfor m
 ore information.\n\n
ATTACH;FMTTYPE=image/jpeg:https://i0.wp.com/westbourneforum.org.uk/wp-cont
 ent/uploads/2024/01/lets-grow-westbourne-banner.webp?fit=685%2C381&ssl=1
LOCATION:Woodchester Allotments\, Woodchester Square\, Westminster\, London
 \, W2 5SW\, England\, United Kingdom
GEO:51.522168;-0.191036
X-APPLE-STRUCTURED-LOCATION;VALUE=URI;X-ADDRESS=Woodchester Square\, Westmi
 nster\, London\, W2 5SW\, England\, United Kingdom;X-APPLE-RADIUS=100;X-TI
 TLE=Woodchester Allotments:geo:51.522168,-0.191036
ORGANIZER;CN="Westbourne Forum":MAILTO:westbourne-admin@westbourneforum.org.uk
END:VEVENT
BEGIN:VTIMEZONE
TZID:Europe/London
X-LIC-LOCATION:Europe/London
BEGIN:STANDARD
DTSTART:20231029T010000
TZOFFSETFROM:+0100
TZOFFSETTO:+0000
TZNAME:GMT
END:STANDARD
END:VTIMEZONE
END:VCALENDAR