BEGIN:VCALENDAR
VERSION:2.0
PRODID:-//wp-events-plugin.com//7.2.3.1//EN
TZID:Europe/London
X-WR-TIMEZONE:Europe/London
BEGIN:VEVENT
UID:1-5179@westbourneforum.org.uk
DTSTART;TZID=Europe/London:20230628T100000
DTEND;TZID=Europe/London:20230628T120000
DTSTAMP:20230123T220138Z
URL:https://westbourneforum.org.uk/events/lets-grow-westbourne-3-2023-06-2
 8/
SUMMARY:Community Gardening
DESCRIPTION:
ATTACH;FMTTYPE=image/jpeg:https://i0.wp.com/westbourneforum.org.uk/wp-cont
 ent/uploads/2022/04/community-gardening-header.webp?fit=800%2C445&ssl=1
LOCATION:Woodchester Allotments\, Woodchester Square\, Westminster\, London
 \, W2 5SW\, England\, United Kingdom
GEO:51.522168;-0.191036
X-APPLE-STRUCTURED-LOCATION;VALUE=URI;X-ADDRESS=Woodchester Square\, Westmi
 nster\, London\, W2 5SW\, England\, United Kingdom;X-APPLE-RADIUS=100;X-TI
 TLE=Woodchester Allotments:geo:51.522168,-0.191036
ORGANIZER;CN="Westbourne Forum":MAILTO:westbourne-admin@westbourneforum.org.uk
END:VEVENT
BEGIN:VTIMEZONE
TZID:Europe/London
X-LIC-LOCATION:Europe/London
BEGIN:DAYLIGHT
DTSTART:20230326T020000
TZOFFSETFROM:+0000
TZOFFSETTO:+0100
TZNAME:BST
END:DAYLIGHT
END:VTIMEZONE
END:VCALENDAR