BEGIN:VCALENDAR
VERSION:2.0
PRODID:-//wp-events-plugin.com//7.2.3.1//EN
TZID:Europe/London
X-WR-TIMEZONE:Europe/London
BEGIN:VEVENT
UID:1-8700@westbourneforum.org.uk
DTSTART;TZID=Europe/London:20231123T113000
DTEND;TZID=Europe/London:20231123T130000
DTSTAMP:20231105T203758Z
URL:https://westbourneforum.org.uk/events/learn-to-sew-2023-11-23/
SUMMARY:Learn to Sew
DESCRIPTION:\n\nYeasmin: 0207 724 9746
ATTACH;FMTTYPE=image/jpeg:https://i0.wp.com/westbourneforum.org.uk/wp-cont
 ent/uploads/2023/11/Learn-to-Sew.webp?fit=1131%2C629&ssl=1
LOCATION:MBS Youth and Community Centre\, 3 Boscobel Street\, London\, Engl
 and\, NW8 8PS\, Westminster\, United Kingdom
GEO:51.522762;-0.173416
X-APPLE-STRUCTURED-LOCATION;VALUE=URI;X-ADDRESS=3 Boscobel Street\, London\
 , England\, NW8 8PS\, Westminster\, United Kingdom;X-APPLE-RADIUS=100;X-TI
 TLE=MBS Youth and Community Centre:geo:51.522762,-0.173416
ORGANIZER;CN="Westbourne Forum":MAILTO:westbourne-admin@westbourneforum.org.uk
END:VEVENT
BEGIN:VTIMEZONE
TZID:Europe/London
X-LIC-LOCATION:Europe/London
BEGIN:STANDARD
DTSTART:20231029T010000
TZOFFSETFROM:+0100
TZOFFSETTO:+0000
TZNAME:GMT
END:STANDARD
END:VTIMEZONE
END:VCALENDAR