BEGIN:VCALENDAR
VERSION:2.0
PRODID:-//wp-events-plugin.com//7.2.3.1//EN
TZID:Europe/London
X-WR-TIMEZONE:Europe/London
BEGIN:VEVENT
UID:1-12172@westbourneforum.org.uk
DTSTART;TZID=Europe/London:20241107T174500
DTEND;TZID=Europe/London:20241107T194500
DTSTAMP:20240701T181009Z
URL:https://westbourneforum.org.uk/events/learn-how-to-box-in-a-fun-safe-a
 nd-professional-environment-2-2024-11-07/
SUMMARY:Learn how to box in a fun\, safe and professional environment
DESCRIPTION:
ATTACH;FMTTYPE=image/jpeg:https://i0.wp.com/westbourneforum.org.uk/wp-cont
 ent/uploads/2024/06/Learn-how-to-box-in-a-fun-safe-and-professional-enviro
 nment-banner.webp?fit=1681%2C935&ssl=1
LOCATION:OK Club\, 45 Denmark Road\, London\, England\, NW6 5BP\, Brent\, U
 nited Kingdom
GEO:51.533235;-0.199642
X-APPLE-STRUCTURED-LOCATION;VALUE=URI;X-ADDRESS=45 Denmark Road\, London\, 
 England\, NW6 5BP\, Brent\, United Kingdom;X-APPLE-RADIUS=100;X-TITLE=OK C
 lub:geo:51.533235,-0.199642
ORGANIZER;CN="Westbourne Forum":MAILTO:westbourne-admin@westbourneforum.org.uk
END:VEVENT
BEGIN:VTIMEZONE
TZID:Europe/London
X-LIC-LOCATION:Europe/London
BEGIN:STANDARD
DTSTART:20241027T010000
TZOFFSETFROM:+0100
TZOFFSETTO:+0000
TZNAME:GMT
END:STANDARD
END:VTIMEZONE
END:VCALENDAR