BEGIN:VCALENDAR
VERSION:2.0
PRODID:-//wp-events-plugin.com//7.2.3.1//EN
TZID:Europe/London
X-WR-TIMEZONE:Europe/London
BEGIN:VEVENT
UID:1-7379@westbourneforum.org.uk
DTSTART;TZID=Europe/London:20231016T190000
DTEND;TZID=Europe/London:20231016T194500
DTSTAMP:20230905T042033Z
URL:https://westbourneforum.org.uk/events/ladies-only-hiit-2023-10-16/
SUMMARY:Ladies only HIIT
DESCRIPTION:A series of strength-based exercises\, with no rest between eac
 h.\n\nOnce your heart starts pounding\, you’ll get it.\n\nThe fast-paced
 \, fiercely fun workouts and relentless motivation will push you to do wha
 t you didn’t think was possible.\n\nBooking\n\n
ATTACH;FMTTYPE=image/jpeg:https://i0.wp.com/westbourneforum.org.uk/wp-cont
 ent/uploads/2023/09/Ladies-only-HIIT-banner.webp?fit=1299%2C722&ssl=1
LOCATION:W.E.C.H. Community Centre\, 36A Elgin Avenue\, London\, England\, 
 W9 3AZ\, Westminster\, United Kingdom
GEO:51.524548;-0.199449
X-APPLE-STRUCTURED-LOCATION;VALUE=URI;X-ADDRESS=36A Elgin Avenue\, London\,
  England\, W9 3AZ\, Westminster\, United Kingdom;X-APPLE-RADIUS=100;X-TITL
 E=W.E.C.H. Community Centre:geo:51.524548,-0.199449
ORGANIZER;CN="Westbourne Forum":MAILTO:westbourne-admin@westbourneforum.org.uk
END:VEVENT
BEGIN:VTIMEZONE
TZID:Europe/London
X-LIC-LOCATION:Europe/London
BEGIN:DAYLIGHT
DTSTART:20230326T020000
TZOFFSETFROM:+0000
TZOFFSETTO:+0100
TZNAME:BST
END:DAYLIGHT
END:VTIMEZONE
END:VCALENDAR